BEGIN:VCALENDAR
VERSION:2.0
PRODID:-//ensemble PTYX - ECPv6.2.4//NONSGML v1.0//EN
CALSCALE:GREGORIAN
METHOD:PUBLISH
X-WR-CALNAME:ensemble PTYX
X-ORIGINAL-URL:https://www.ensembleptyx.com
X-WR-CALDESC:évènements pour ensemble PTYX
REFRESH-INTERVAL;VALUE=DURATION:PT1H
X-Robots-Tag:noindex
X-PUBLISHED-TTL:PT1H
BEGIN:VTIMEZONE
TZID:Europe/Paris
BEGIN:DAYLIGHT
TZOFFSETFROM:+0100
TZOFFSETTO:+0200
TZNAME:CEST
DTSTART:20230326T010000
END:DAYLIGHT
BEGIN:STANDARD
TZOFFSETFROM:+0200
TZOFFSETTO:+0100
TZNAME:CET
DTSTART:20231029T010000
END:STANDARD
END:VTIMEZONE
BEGIN:VEVENT
DTSTART;TZID=Europe/Paris:20230916T140000
DTEND;TZID=Europe/Paris:20230916T183000
DTSTAMP:20260420T055822
CREATED:20230614T090515Z
LAST-MODIFIED:20230824T070659Z
UID:26416-1694872800-1694889000@www.ensembleptyx.com
SUMMARY:Impromptyx - "Concert champêtre"
DESCRIPTION:Dans le cadre des Journées Européennes du Patrimoine \navec Jean-Baptiste Apéré (objets sonores\, diffusion électroacoustique)\, Antoine Moulin (clarinette)\, Christophe Rostang (trompette) et Philippe Carrillo (harpe) \nMusiques de Biston\, Kassap\, Lemaître\, Ravel\, Satie\, Takemitsu… \nEn alternance avec des propositions théâtrales de la Cie Les Passeurs de Légende et des présentations du bâti autour de l’eau par l’association Histoire et Patrimoine.
URL:https://www.ensembleptyx.com/event/impromptyx-concert-champetre/
LOCATION:Chemin de la Perrine\, Chemin de la Perrine\, Saint-Christophe-sur-le-Nais\, 37370
CATEGORIES:impromptyx,spectacle
ATTACH;FMTTYPE=image/jpeg:https://www.ensembleptyx.com/wp-content/uploads/2023/06/363780882_1514231165776045_9139818561964205531_n.jpg
END:VEVENT
END:VCALENDAR