BEGIN:VCALENDAR
VERSION:2.0
PRODID:-//ensemble PTYX - ECPv6.2.4//NONSGML v1.0//EN
CALSCALE:GREGORIAN
METHOD:PUBLISH
X-ORIGINAL-URL:https://www.ensembleptyx.com
X-WR-CALDESC:évènements pour ensemble PTYX
REFRESH-INTERVAL;VALUE=DURATION:PT1H
X-Robots-Tag:noindex
X-PUBLISHED-TTL:PT1H
BEGIN:VTIMEZONE
TZID:Europe/Paris
BEGIN:DAYLIGHT
TZOFFSETFROM:+0100
TZOFFSETTO:+0200
TZNAME:CEST
DTSTART:20210328T010000
END:DAYLIGHT
BEGIN:STANDARD
TZOFFSETFROM:+0200
TZOFFSETTO:+0100
TZNAME:CET
DTSTART:20211031T010000
END:STANDARD
END:VTIMEZONE
BEGIN:VEVENT
DTSTART;TZID=Europe/Paris:20210516T110000
DTEND;TZID=Europe/Paris:20210516T120000
DTSTAMP:20260423T191732
CREATED:20210127T081854Z
LAST-MODIFIED:20210512T052833Z
UID:23273-1621162800-1621166400@www.ensembleptyx.com
SUMMARY:En avant les in:entendues !
DESCRIPTION:Impromptyx pour annoncer le festival du mois d’août. \n\n\n\nProgrammation surprise ! 30-40 minutes de musiques suivies par un apéro. \n\n\n\nJauge réduite. Uniquement sur réservation à contact@ensembleptyx.com ou 06 51 89 45 51
URL:https://www.ensembleptyx.com/event/en-avant-les-inentendues/
LOCATION:La Grange des Arts\, rue Saint-André\, Neuvy-le-Roi\, 37370\, France
CATEGORIES:impromptyx
ATTACH;FMTTYPE=image/jpeg:https://www.ensembleptyx.com/wp-content/uploads/2021/01/ptyx-eali-2021.jpg
ORGANIZER;CN="vous ne r%C3%AAvez pas encore...":MAILTO:vnrpe@chimeriens.com
END:VEVENT
END:VCALENDAR