BEGIN:VCALENDAR
VERSION:2.0
PRODID:-//ensemble PTYX - ECPv6.2.4//NONSGML v1.0//EN
CALSCALE:GREGORIAN
METHOD:PUBLISH
X-ORIGINAL-URL:https://www.ensembleptyx.com
X-WR-CALDESC:évènements pour ensemble PTYX
REFRESH-INTERVAL;VALUE=DURATION:PT1H
X-Robots-Tag:noindex
X-PUBLISHED-TTL:PT1H
BEGIN:VTIMEZONE
TZID:Europe/Paris
BEGIN:DAYLIGHT
TZOFFSETFROM:+0100
TZOFFSETTO:+0200
TZNAME:CEST
DTSTART:20200329T010000
END:DAYLIGHT
BEGIN:STANDARD
TZOFFSETFROM:+0200
TZOFFSETTO:+0100
TZNAME:CET
DTSTART:20201025T010000
END:STANDARD
END:VTIMEZONE
BEGIN:VEVENT
DTSTART;TZID=Europe/Paris:20200314T100000
DTEND;TZID=Europe/Paris:20200314T120000
DTSTAMP:20260424T120903
CREATED:20190802T092646Z
LAST-MODIFIED:20200415T050224Z
UID:6939-1584180000-1584187200@www.ensembleptyx.com
SUMMARY:Balade sonore [Impromptyx No 40]
DESCRIPTION:Découvrir sa ville en l’écoutant !RDV le Samedi 14 Mars à 10h dans la cour du Musée St Roch d’Issoudun – Gratuit et ouvert à tous\, petits et grands\, pour une déambulation sonore à travers les rues d’Issoudun.Un « paysage sonore » est un son\, ou une combinaison de sons\, qui se forme ou qui apparaît dans un environnement immersif. Un paysage sonore renvoie aussi bien à un environnement sonore naturel composé de sons tels que des bruits d’animaux\, ou ceux du vent et de la pluie par exemple\, qu’à ceux créés par l’homme à travers la création musicale\, la conception sonore et les activités de la vie quotidienne comme une conversation\, la réalisation d’un ouvrage ou l’utilisation d’engins mécaniques industriels !Une ballade initiée par des membres de PTYX. Cette découverte\, pimentée de rendez-vous insolites avec des musiciens\,donne lieu à une prise de son\, premier pas pour une carto-sonographie du territoire.Le public découvre la sonorité de sa ville et prend plaisir à l’écouter !Nous terminerons cette balade par un pot de l’amitié.
URL:https://www.ensembleptyx.com/event/balade-sonore/
LOCATION:Office de Tourisme\, place Saint-Cyr\, Issoudun\, 36100
CATEGORIES:balade sonore,impromptyx,spectacle
ATTACH;FMTTYPE=image/jpeg:https://www.ensembleptyx.com/wp-content/uploads/2019/08/issoudun-marche.jpg
ORGANIZER;CN="Centre Albert Camus":MAILTO:albert-camus@issoudun.fr
END:VEVENT
END:VCALENDAR