BEGIN:VCALENDAR
VERSION:2.0
PRODID:-//ensemble PTYX - ECPv6.2.4//NONSGML v1.0//EN
CALSCALE:GREGORIAN
METHOD:PUBLISH
X-ORIGINAL-URL:https://www.ensembleptyx.com
X-WR-CALDESC:évènements pour ensemble PTYX
REFRESH-INTERVAL;VALUE=DURATION:PT1H
X-Robots-Tag:noindex
X-PUBLISHED-TTL:PT1H
BEGIN:VTIMEZONE
TZID:Europe/Paris
BEGIN:DAYLIGHT
TZOFFSETFROM:+0100
TZOFFSETTO:+0200
TZNAME:CEST
DTSTART:20190331T010000
END:DAYLIGHT
BEGIN:STANDARD
TZOFFSETFROM:+0200
TZOFFSETTO:+0100
TZNAME:CET
DTSTART:20191027T010000
END:STANDARD
END:VTIMEZONE
BEGIN:VEVENT
DTSTART;TZID=Europe/Paris:20190922T110000
DTEND;TZID=Europe/Paris:20190922T123000
DTSTAMP:20260424T204914
CREATED:20190525T050508Z
LAST-MODIFIED:20190904T163018Z
UID:6775-1569150000-1569155400@www.ensembleptyx.com
SUMMARY:Concert avec la chorale de l’AOC Musical’EST [Impromptyx No 10]
DESCRIPTION:Dans le cadre des Journées Européennes du Patrimoine. Concert partagé avec la chorale AOC Musical Est dirigé par Emilie Tillier & l’ensemble PTYX  (Emilie Tillier\, soprano – Antoine Moulin\, clarinette – Yu-Hsuan Pai\, percussions – Jean-Baptiste Apéré\, percussions) \n\nUn temps fort pour la chapelle des Frères Mineurs !Construite par les frères Perret dans les années trente\, cette construction s’inspire de Notre-Dame du Raincy. Elle est labellisée « Architecture contemporaine remarquable » par le Ministère de la culture. \n\n\n\n\n\nLABEL « ARCHITECTURE CONTEMPORAINE REMARQUABLE »\nLa connaissance\, la conservation et la mise en valeur du patrimoine architectural et urbain du XXe siècle constituent l’un des enjeux majeurs du ministère de la Culture.\nEn 1999\, le ministère de la Culture crée le label « patrimoine du XXe siècle ». Cette procédure doit s’inscrire auprès des habitants et des élus dans le cadre d’une opération de promotion et de diffusion visant à la reconnaissance des édifices et ensembles urbains les plus significatifs du XXe siècle.\nEn 2016\, cette appellation a été intégrée dans la Code du Patrimoine sous le nom de « Architecture contemporaine remarquable ». Ce label est accordé à des réalisations significatives jusqu’au centenaire de l’ouvrage.À ce jour\, un peu plus de 2 800 édifices ou ensembles urbains ont reçu ce label dont plus du tiers non protégés au titre de la loi de 1913 relative aux monuments historiques.\nEn région Centre-Val de Loire\, 123 édifices ou ensembles urbains bénéficient de ce label.
URL:https://www.ensembleptyx.com/event/concert-avec-le-choeur-musicalest/
LOCATION:Chapelle des Capucins\, 8 rue de la Pierre\, Tours\, 37100\, France
CATEGORIES:impromptyx,spectacle
ATTACH;FMTTYPE=image/jpeg:https://www.ensembleptyx.com/wp-content/uploads/2019/04/Affiche-JEP-2019.jpg
END:VEVENT
BEGIN:VEVENT
DTSTART;TZID=Europe/Paris:20190922T153000
DTEND;TZID=Europe/Paris:20190922T170000
DTSTAMP:20260424T204914
CREATED:20190728T153258Z
LAST-MODIFIED:20190904T163142Z
UID:6916-1569166200-1569171600@www.ensembleptyx.com
SUMMARY:Concert avec la chorale de l’AOC Musical’EST [Impromptyx No 11]
DESCRIPTION:Dans le cadre des Journées Européennes du Patrimoine. \nMême programme que le matin.
URL:https://www.ensembleptyx.com/event/concert-avec-le-choeur-musicalest-impromptyx-no-9/
LOCATION:Manoir de Beauregard\, rue Courtemanche\, Montlouis\, 37270
CATEGORIES:impromptyx,spectacle
ATTACH;FMTTYPE=image/jpeg:https://www.ensembleptyx.com/wp-content/uploads/2019/04/Affiche-JEP-2019.jpg
END:VEVENT
END:VCALENDAR