BEGIN:VCALENDAR
VERSION:2.0
PRODID:-//ensemble PTYX - ECPv6.2.4//NONSGML v1.0//EN
CALSCALE:GREGORIAN
METHOD:PUBLISH
X-ORIGINAL-URL:https://www.ensembleptyx.com
X-WR-CALDESC:évènements pour ensemble PTYX
REFRESH-INTERVAL;VALUE=DURATION:PT1H
X-Robots-Tag:noindex
X-PUBLISHED-TTL:PT1H
BEGIN:VTIMEZONE
TZID:Europe/Paris
BEGIN:DAYLIGHT
TZOFFSETFROM:+0100
TZOFFSETTO:+0200
TZNAME:CEST
DTSTART:20230326T010000
END:DAYLIGHT
BEGIN:STANDARD
TZOFFSETFROM:+0200
TZOFFSETTO:+0100
TZNAME:CET
DTSTART:20231029T010000
END:STANDARD
END:VTIMEZONE
BEGIN:VEVENT
DTSTART;TZID=Europe/Paris:20231014T203000
DTEND;TZID=Europe/Paris:20231014T220000
DTSTAMP:20260420T023502
CREATED:20230922T054217Z
LAST-MODIFIED:20230922T055623Z
UID:26897-1697315400-1697320800@www.ensembleptyx.com
SUMMARY:Entre chien et loup
DESCRIPTION:Dans le cadre de la manifestation nationale\, « Le Jour de la Nuit »\, l’association « vous ne rêvez pas encore… » propose une balade au crépuscule\, là où la vie quotidienne et collective cède le pas à la vie nocturne et mystérieuse.\nLa balade comprendra un tour du centre-bourg\, un arrêt musical à l’église\, un verre de l’amitié\, et une observation du ciel étoilé alors que les lumières de la ville se seront éteintes.\n\nensemble PTYX : Antoine Moulin\, clarinette & Philippe Carrillo\, harpe\nMusiques de Dominique Lemaître et John Cage\n\nRdv 20h15 place du mail\, 37340 Continvoir. Événement gratuit.\nAvec le soutien de la SACEM.
URL:https://www.ensembleptyx.com/event/entre-chien-et-loup/
LOCATION:Continvoir\, Continvoir\, France
CATEGORIES:balade sonore,impromptyx,spectacle
ATTACH;FMTTYPE=image/jpeg:https://www.ensembleptyx.com/wp-content/uploads/2023/09/jdln-2023-affiche-a3-scaled.jpg
ORGANIZER;CN="vous ne r%C3%AAvez pas encore...":MAILTO:vnrpe@chimeriens.com
END:VEVENT
BEGIN:VEVENT
DTSTART;TZID=Europe/Paris:20231028T190000
DTEND;TZID=Europe/Paris:20231028T210000
DTSTAMP:20260420T023502
CREATED:20231004T054207Z
LAST-MODIFIED:20231004T054207Z
UID:26907-1698519600-1698526800@www.ensembleptyx.com
SUMMARY:impromptyx chez l'habitant
DESCRIPTION:Concert privé dans une belle cave troglodytique à Luynes\, dédiée à la musique. \nAvec Benjamin Garnier\, violoncelle\, Pauline Vanagt\, flûtes et Jean-Baptiste Apéré\, électronique \nPlus de renseignements ? Envoyer un mail à contact@ensembleptyx.com
URL:https://www.ensembleptyx.com/event/impromptyx-chez-lhabitant/
LOCATION:Luynes\, Luynes\, 37230
CATEGORIES:impromptyx
ATTACH;FMTTYPE=image/jpeg:https://www.ensembleptyx.com/wp-content/uploads/2023/10/image00000011.jpg
END:VEVENT
BEGIN:VEVENT
DTSTART;TZID=Europe/Paris:20231029T150000
DTEND;TZID=Europe/Paris:20231029T163000
DTSTAMP:20260420T023502
CREATED:20230830T033854Z
LAST-MODIFIED:20230830T033854Z
UID:26817-1698591600-1698597000@www.ensembleptyx.com
SUMMARY:Festival AR(t]CHIPEL
DESCRIPTION:À l’occasion d’un partenariat inédit\, les œuvres du centre Pompidou quittent leurs salles d’exposition habituelles pour rejoindre différents lieux de création du Centre-Val de Loire. Le temps du festival AR(t]CHIPEL\, les visiteurs pourront admirer des dizaines d’œuvres issues de la 1re collection d’art moderne et contemporain d’Europe\, aux quatre coins de la région. \nL’ensemble PTTX interviendra à la Maison Dutilleux-Joy\, dans une forme déambulatoire qui rendra hommage aux deux anciens résidents de la maison sur les bords de Loire de Candes Saint-Martin… \navec Pierre Malle (violon)\, Anthony Chéneau (alto)\, Camille Gueirard (violoncelle)\, Alice Diéval (piano)\, Antoine Moulin (clarinette)\, Louis Mazzocchi (tuba)\, Jean-Baptiste Apéré (percussions) et la participation exceptionnelle de Thierry Machuel
URL:https://www.ensembleptyx.com/event/festival-artchipel/
LOCATION:Maison Dutilleux-Joy\, 10 rue du Confluent\, Candes Saint-Martin\, 37500
CATEGORIES:balade sonore,impromptyx,spectacle
ATTACH;FMTTYPE=image/png:https://www.ensembleptyx.com/wp-content/uploads/2023/08/artchipel-illustration-NR-1.png
END:VEVENT
END:VCALENDAR