BEGIN:VCALENDAR
VERSION:2.0
PRODID:-//ensemble PTYX - ECPv6.2.4//NONSGML v1.0//EN
CALSCALE:GREGORIAN
METHOD:PUBLISH
X-ORIGINAL-URL:https://www.ensembleptyx.com
X-WR-CALDESC:évènements pour ensemble PTYX
REFRESH-INTERVAL;VALUE=DURATION:PT1H
X-Robots-Tag:noindex
X-PUBLISHED-TTL:PT1H
BEGIN:VTIMEZONE
TZID:Europe/Paris
BEGIN:DAYLIGHT
TZOFFSETFROM:+0100
TZOFFSETTO:+0200
TZNAME:CEST
DTSTART:20230326T010000
END:DAYLIGHT
BEGIN:STANDARD
TZOFFSETFROM:+0200
TZOFFSETTO:+0100
TZNAME:CET
DTSTART:20231029T010000
END:STANDARD
END:VTIMEZONE
BEGIN:VEVENT
DTSTART;TZID=Europe/Paris:20230430T163000
DTEND;TZID=Europe/Paris:20230430T173000
DTSTAMP:20260420T123217
CREATED:20230302T060622Z
LAST-MODIFIED:20230426T034128Z
UID:25874-1682872200-1682875800@www.ensembleptyx.com
SUMMARY:Impromptyx
DESCRIPTION:Concert participatif dans le cadre de l’exposition « Silences\, Traces ». \nAvec Pauline Vanagt (flûte)\, Antoine Moulin (clarinette) et Camille Gueirard (violoncelle). \nPrésentation\, diffusion sonore : Jean-Baptiste Apéré \nProgramme \n– Prélude supersonique\n– Raphaèle BISTON\, Traces pour flûte\, clarinette et violoncelle (13 min.)\n– Krystina MEGYERI\, Cicatrices pour clarinette et violoncelle (13 min.)\n– TON THAT TIET\, Le tombeau de Christian Lardé pour flûte (5 min.) \n+ avec participation du public (atelier préparatoire à 15h30)\n– John CAGE\, 4’33 pour n’importe quel instrument (5 min.)\n– Raphaèle BISTON\, Feuilles de papier (4 min.)
URL:https://www.ensembleptyx.com/event/impromptyx/
LOCATION:L’Atelier des Empreintes\, 4 ruelle de la Motte\, Montsoreau\, 49730
CATEGORIES:concert,impromptyx
ATTACH;FMTTYPE=image/jpeg:https://www.ensembleptyx.com/wp-content/uploads/2023/03/343030527_2292337027618681_280212982800165488_n.jpg
END:VEVENT
END:VCALENDAR