BEGIN:VCALENDAR
VERSION:2.0
PRODID:-//ensemble PTYX - ECPv6.2.4//NONSGML v1.0//EN
CALSCALE:GREGORIAN
METHOD:PUBLISH
X-ORIGINAL-URL:https://www.ensembleptyx.com
X-WR-CALDESC:évènements pour ensemble PTYX
REFRESH-INTERVAL;VALUE=DURATION:PT1H
X-Robots-Tag:noindex
X-PUBLISHED-TTL:PT1H
BEGIN:VTIMEZONE
TZID:Europe/Paris
BEGIN:DAYLIGHT
TZOFFSETFROM:+0100
TZOFFSETTO:+0200
TZNAME:CEST
DTSTART:20220327T010000
END:DAYLIGHT
BEGIN:STANDARD
TZOFFSETFROM:+0200
TZOFFSETTO:+0100
TZNAME:CET
DTSTART:20221030T010000
END:STANDARD
END:VTIMEZONE
BEGIN:VEVENT
DTSTART;TZID=Europe/Paris:20220413T183000
DTEND;TZID=Europe/Paris:20220413T193000
DTSTAMP:20260423T035630
CREATED:20220226T071356Z
LAST-MODIFIED:20220226T071356Z
UID:24828-1649874600-1649878200@www.ensembleptyx.com
SUMMARY:D'ébauches
DESCRIPTION:La violoncelliste Camille Gueirard joue « D’ébauches » du compositeur Sylvain Kassap\, en sa présence. Il s’agit d’une oeuvre élaborée conjointement avec une cuvée du Domaine La Grange Tiphaine\, en 2018. Le moment musical sera associée à une dégustation.\n\nEn lien avec la résidence de l’ensemble PTYX au Théâtre Beaumarchais\, du 11 au 15 avril.
URL:https://www.ensembleptyx.com/event/debauches/
LOCATION:Le Garage\, 1 rue du Général Foy\, Amboise\, 37400
CATEGORIES:impromptyx
ATTACH;FMTTYPE=image/jpeg:https://www.ensembleptyx.com/wp-content/uploads/2019/04/ptyx-31032019-photo_H_070.jpg
END:VEVENT
END:VCALENDAR