BEGIN:VCALENDAR
VERSION:2.0
PRODID:-//ensemble PTYX - ECPv6.2.4//NONSGML v1.0//EN
CALSCALE:GREGORIAN
METHOD:PUBLISH
X-WR-CALNAME:ensemble PTYX
X-ORIGINAL-URL:https://www.ensembleptyx.com
X-WR-CALDESC:évènements pour ensemble PTYX
REFRESH-INTERVAL;VALUE=DURATION:PT1H
X-Robots-Tag:noindex
X-PUBLISHED-TTL:PT1H
BEGIN:VTIMEZONE
TZID:Europe/Paris
BEGIN:DAYLIGHT
TZOFFSETFROM:+0100
TZOFFSETTO:+0200
TZNAME:CEST
DTSTART:20270328T010000
END:DAYLIGHT
BEGIN:STANDARD
TZOFFSETFROM:+0200
TZOFFSETTO:+0100
TZNAME:CET
DTSTART:20271031T010000
END:STANDARD
END:VTIMEZONE
BEGIN:VEVENT
DTSTART;VALUE=DATE:20270326
DTEND;VALUE=DATE:20270327
DTSTAMP:20260419T183254
CREATED:20260404T050919Z
LAST-MODIFIED:20260404T050919Z
UID:29601-1806019200-1806105599@www.ensembleptyx.com
SUMMARY:Beethoven X
DESCRIPTION:Une intelligence artificielle a complété la Symphonie n°10 inachevée de Beethoven. L’ensemble PTYX et l’orchestre de chambre Camerata Ambacia en donnent la première audition française le 27 mars 2027 — jour du bicentenaire de sa mort.Beethoven X est un programme de 70 minutes\, avec 5 premières françaises\, construit comme un dialogue critique avec l’héritage beethovénien : Fanny Hensel-Mendelssohn\, Louis Andriessen\, Dieter Schnebel\, Ethel Smyth\, Missy Mazzoli. \nLieu à préciser
URL:https://www.ensembleptyx.com/event/beethoven-x/
CATEGORIES:concert
ATTACH;FMTTYPE=image/png:https://www.ensembleptyx.com/wp-content/uploads/2026/04/Beethoven-X.png
END:VEVENT
END:VCALENDAR