BEGIN:VCALENDAR
VERSION:2.0
PRODID:-//ensemble PTYX - ECPv6.2.4//NONSGML v1.0//EN
CALSCALE:GREGORIAN
METHOD:PUBLISH
X-ORIGINAL-URL:https://www.ensembleptyx.com
X-WR-CALDESC:évènements pour ensemble PTYX
REFRESH-INTERVAL;VALUE=DURATION:PT1H
X-Robots-Tag:noindex
X-PUBLISHED-TTL:PT1H
BEGIN:VTIMEZONE
TZID:Europe/Paris
BEGIN:DAYLIGHT
TZOFFSETFROM:+0100
TZOFFSETTO:+0200
TZNAME:CEST
DTSTART:20250330T010000
END:DAYLIGHT
BEGIN:STANDARD
TZOFFSETFROM:+0200
TZOFFSETTO:+0100
TZNAME:CET
DTSTART:20251026T010000
END:STANDARD
END:VTIMEZONE
BEGIN:VEVENT
DTSTART;TZID=Europe/Paris:20251031T200000
DTEND;TZID=Europe/Paris:20251031T213000
DTSTAMP:20260419T184609
CREATED:20251017T042145Z
LAST-MODIFIED:20251025T073855Z
UID:29123-1761940800-1761946200@www.ensembleptyx.com
SUMMARY:Duo Aventure
DESCRIPTION:L’ensemble PTYX a le plaisir d’accueillir le duo Aventure dans un programme mélangeant musique de la Renaissance et nouvelle création du compositeur Charles Uzor. \nmusiques \n\n(*1961) Charles Uzor (sea)\, commande du Duo Aventure\n(1490 – 1562) Claudin de Sermisy\n(1497-1543) Francesco da Milano\n(1560 – 1615) John Baldwine\n\nDuo Aventure \n\n\n\n\nTeresa Hackel\, flûtes à bec\nKarin Rüdt\, guitares\n\n  \n oriri \nLa nouvelle œuvre de Charles Uzor renvoie de multiples façons aux œuvres et au style de la Renaissance musicale\, qu’elle contraste et fusionne à sa manière. Aussi résistants qu’enrichissants\, les sixièmes de ton et les bandes enregistrées interviennent dans cette référence. \nC’est dans l’oscillation entre l’étrangeté et l’acceptation que naît cette intensité et cette densité qui se dégagent souvent de l’œuvre d’Uzor. \nVoyageur ! Il n’y a pas de cheminsRien que des sillages sur la mer. Tout passe et tout demeureMais notre affaire est de passerDe passer en traçantDes cheminsDes chemins sur la mer \nAntonio Machado \n  \n  \nOriri (banquet) emprunte des chemins qui doivent mener ma musique vers des espaces ouverts\, baignés de lumière\, de mélodie et de résonance… Dans Oriri\, l’Orient et l’Occident se font face\, non pas dans un esprit hostile\, mais dans un esprit de curiosité\, d’hospitalité et de débat. La flûte et la guitare sont ici des ponts entre l’Orient et l’Occident\, entre l’Irak et Santiago\, entre le monologue et la rencontre\, entre la dispute et le symposium des voix. \n— Charles Uzor \n  \n\n  \n\nhttps://www.ensembleptyx.com/wp-content/uploads/2025/10/duo-Aventure-teaser.mp4
URL:https://www.ensembleptyx.com/event/duo-aventure/
LOCATION:Chapelle Saint-Libert\, 37 avenue André Malraux\, Tours\, 37000\, France
CATEGORIES:concert
ATTACH;FMTTYPE=image/jpeg:https://www.ensembleptyx.com/wp-content/uploads/2025/10/def_flyer_frankreich_A5_digital-e1760674963176.jpg
ORGANIZER;CN="vous ne r%C3%AAvez pas encore...":MAILTO:vnrpe@chimeriens.com
END:VEVENT
END:VCALENDAR