BEGIN:VCALENDAR
VERSION:2.0
PRODID:-//ensemble PTYX - ECPv6.2.4//NONSGML v1.0//EN
CALSCALE:GREGORIAN
METHOD:PUBLISH
X-ORIGINAL-URL:https://www.ensembleptyx.com
X-WR-CALDESC:évènements pour ensemble PTYX
REFRESH-INTERVAL;VALUE=DURATION:PT1H
X-Robots-Tag:noindex
X-PUBLISHED-TTL:PT1H
BEGIN:VTIMEZONE
TZID:Europe/Paris
BEGIN:DAYLIGHT
TZOFFSETFROM:+0100
TZOFFSETTO:+0200
TZNAME:CEST
DTSTART:20250330T010000
END:DAYLIGHT
BEGIN:STANDARD
TZOFFSETFROM:+0200
TZOFFSETTO:+0100
TZNAME:CET
DTSTART:20251026T010000
END:STANDARD
END:VTIMEZONE
BEGIN:VEVENT
DTSTART;TZID=Europe/Paris:20251026T160000
DTEND;TZID=Europe/Paris:20251026T173000
DTSTAMP:20260419T202259
CREATED:20241123T053013Z
LAST-MODIFIED:20251015T073211Z
UID:28006-1761494400-1761499800@www.ensembleptyx.com
SUMMARY:[Impressions Normandes] / Lemaître-Debussy-Satie
DESCRIPTION:Un programme exceptionnel pour l’ensemble PTYX\, autour de deux quintettes de Dominique Lemaître\, complété par un hommage à Satie (100e anniversaire de sa disparition) et le plaisir de se faire mallarméen avec le Prélude à l’après-midi d’un faune. \n\n\n\nLEMAÎTRE\, Aux fleurs plus de couleur\, plus de vitesse à l’onde pour quintette (1992)\nDEBUSSY\, La cathédrale engloutie\, prélude pour piano (1910)\nSATIE\, La Belle Excentrique\, arrangement pour flûte\, clarinette\, violon et violoncelle par Jean-Baptiste Apéré (1920)\nLEMAÎTRE\, Les plis du temps pour quintette (2024) — création française\nSATIE\, Véritables Préludes Flasques pour piano (1912)\nDEBUSSY\, Prélude à l’après-midi d’un faune\, arrangement pour quintette par Jean-Baptiste Apéré (1894)\n\n\n\n\nPauline Vanagt · flûte / Antoine Moulin · clarinette / Alice Diéval · piano / Pierre Malle · violon / Camille Gueirard · violoncelle / Jean-Baptiste Apéré · direction\nUn concert accueilli dans le cadre de la saison des concerts de la Chapelle de l’Hôpital Bretonneau. Cet événement est proposé en soutien à la sensibilisation à l’Amyotrophie Spinale Infantile\, en partenariat avec l’association « Dans les pas de Gabin ». \nEn présence du compositeur Dominique Lemaître. Le nouveau CD « Panta Rhei »\, enregistré par l’ensemble PTYX et consacré aux œuvres avec clarinette de Dominique Lemaître\, sera disponible sur place. \nLibre participation aux frais
URL:https://www.ensembleptyx.com/event/impressions-normandes/
LOCATION:Chapelle de l’Hôpital Bretonneau\, 2 boulevard Tonnellé\, Tours\, 37000\, France
CATEGORIES:concert
ATTACH;FMTTYPE=image/png:https://www.ensembleptyx.com/wp-content/uploads/2024/11/visuel-PTYX-web.png
ORGANIZER;CN="vous ne r%C3%AAvez pas encore...":MAILTO:vnrpe@chimeriens.com
END:VEVENT
END:VCALENDAR