BEGIN:VCALENDAR
VERSION:2.0
PRODID:-//ensemble PTYX - ECPv6.2.4//NONSGML v1.0//EN
CALSCALE:GREGORIAN
METHOD:PUBLISH
X-ORIGINAL-URL:https://www.ensembleptyx.com
X-WR-CALDESC:évènements pour ensemble PTYX
REFRESH-INTERVAL;VALUE=DURATION:PT1H
X-Robots-Tag:noindex
X-PUBLISHED-TTL:PT1H
BEGIN:VTIMEZONE
TZID:Europe/Paris
BEGIN:DAYLIGHT
TZOFFSETFROM:+0100
TZOFFSETTO:+0200
TZNAME:CEST
DTSTART:20220327T010000
END:DAYLIGHT
BEGIN:STANDARD
TZOFFSETFROM:+0200
TZOFFSETTO:+0100
TZNAME:CET
DTSTART:20221030T010000
END:STANDARD
END:VTIMEZONE
BEGIN:VEVENT
DTSTART;TZID=Europe/Paris:20221208T203000
DTEND;TZID=Europe/Paris:20221208T223000
DTSTAMP:20260423T203520
CREATED:20221109T071013Z
LAST-MODIFIED:20221110T051233Z
UID:25615-1670531400-1670538600@www.ensembleptyx.com
SUMMARY:PTYX + KETUG KETUG
DESCRIPTION:PTYX + KETUG KETUG en concert\nUn double plateau original à ne pas manquer à la Chapelle Sainte Anne\n\nPour PTYX\, il s’agit du deuxième rendez-vous d’une série de concerts en hommage à William Duckworth (1943-2012) dont on célèbre cette année les 10 ans de la disparition. Le programme autour de pièces pour piano par Alice Diéval permet de découvrir l’écriture post-minimaliste de ce compositeur américain\, qui intègre des éléments répétitifs avec des lignes mélodiques claires. \nTime Curve Préludes (extraits – 25′) / Tango Voices (3′) / 3 Meditations on Satie‌ (15′)\nKETUG KETUG est un groupe de musiciens jouant nu gamelan balinais.\nLe gamelan selunding est l’ensemble le plus ancien et le plus sacré de Bali. Il est associé avec la culture pré-hindoue Bali Aga\, qui survit dans quelques villages dans les montagnes de la province Karangasem à l’est de l’île. Selon la légende\, les instruments les plus vieux et le repertoire de cette tradition auraient été transmis directement par les dieux\, et non créés par des êtres humains. Le salunding est le seul type de gamelan utilisant des lames en fer\, considéré comme un matériau aux pouvoirs magiques. Des plaques de métal sont suspendues au-dessus de résonateurs et frappées par des grosses mailloches avec une technique inhabituelle à deux mains. \nAvec Lucas Pizzini\, Sven Michel\, Prune Bécheau\, Mark Lockett\, Julien Pontvianne et Gabriel Desfaux.\nJeudi 8 décembre 2022 à 20:30\nChapelle Sainte-Anne\nSquare Roze\, 37000 Tours\nréservations : 02 47 37 10 99\n\nlibre participation aux frais
URL:https://www.ensembleptyx.com/event/shadowing-duckworth-ii/
LOCATION:Chapelle Sainte-Anne\, square Roze\, La Riche\, 37520\, France
CATEGORIES:concert
ATTACH;FMTTYPE=image/jpeg:https://www.ensembleptyx.com/wp-content/uploads/2022/11/Affiche-PTYX-Ketug-Ketug-scaled.jpg
END:VEVENT
END:VCALENDAR