BEGIN:VCALENDAR
VERSION:2.0
PRODID:-//ensemble PTYX - ECPv6.2.4//NONSGML v1.0//EN
CALSCALE:GREGORIAN
METHOD:PUBLISH
X-WR-CALNAME:ensemble PTYX
X-ORIGINAL-URL:https://www.ensembleptyx.com
X-WR-CALDESC:évènements pour ensemble PTYX
REFRESH-INTERVAL;VALUE=DURATION:PT1H
X-Robots-Tag:noindex
X-PUBLISHED-TTL:PT1H
BEGIN:VTIMEZONE
TZID:Europe/Paris
BEGIN:DAYLIGHT
TZOFFSETFROM:+0100
TZOFFSETTO:+0200
TZNAME:CEST
DTSTART:20220327T010000
END:DAYLIGHT
BEGIN:STANDARD
TZOFFSETFROM:+0200
TZOFFSETTO:+0100
TZNAME:CET
DTSTART:20221030T010000
END:STANDARD
END:VTIMEZONE
BEGIN:VEVENT
DTSTART;TZID=Europe/Paris:20220115T180000
DTEND;TZID=Europe/Paris:20220115T190000
DTSTAMP:20260424T162334
CREATED:20211201T180910Z
LAST-MODIFIED:20220107T120353Z
UID:24532-1642269600-1642273200@www.ensembleptyx.com
SUMMARY:Arvo PÄRT [Coronaviré]
DESCRIPTION:Information du 7 janvier 2022 : le concert est supprimé\, pour cause d’annulation des manifestations due au contexte sanitaire. \nArvo Pärt… Le mystère Arvo Pärt…. \nCompositeur vivant le plus joué au monde\, il est aussi le plus décrié. \nLe concert permettra d’entendre deux oeuvres fondatrices et représentatives du style unique\, le « tintinnabuli » : Für Alina (1976) et Fratres (1977). \nDeux oeuvres d’écriture plus récente viendront éclairer le rapport de ce compositeur avec la tradition classique : Scala cromatica  (2007) et Mozart-Adagio (1992). \nLe programme sera complété par un extrait des Pre-medieval Metrics (1970) de Gavin Bryars\, autre manière d’interroger la postérité des musiques anciennes. \nEn première partie\, Alice Diéval interprètera un monument de la littérature pour piano du XXe siècle : Phrygian Gates de John Adams (1977). \nPierre Malle\, violon\nBenjamin Garnier\, violoncelle\nAlice Diéval\, piano
URL:https://www.ensembleptyx.com/event/arvo-part-3/
LOCATION:Centre Artistique Intercommunal « Jean Françaix »\, 36 Bis rue de la Cornillère\, Saint-Calais\, 72120\, France
CATEGORIES:concert,spectacle
ATTACH;FMTTYPE=image/jpeg:https://www.ensembleptyx.com/wp-content/uploads/2021/12/arvopart.jpg
ORGANIZER;CN="vous ne r%C3%AAvez pas encore...":MAILTO:vnrpe@chimeriens.com
END:VEVENT
END:VCALENDAR