BEGIN:VCALENDAR
VERSION:2.0
PRODID:-//ensemble PTYX - ECPv6.2.4//NONSGML v1.0//EN
CALSCALE:GREGORIAN
METHOD:PUBLISH
X-ORIGINAL-URL:https://www.ensembleptyx.com
X-WR-CALDESC:évènements pour ensemble PTYX
REFRESH-INTERVAL;VALUE=DURATION:PT1H
X-Robots-Tag:noindex
X-PUBLISHED-TTL:PT1H
BEGIN:VTIMEZONE
TZID:UTC
BEGIN:STANDARD
TZOFFSETFROM:+0000
TZOFFSETTO:+0000
TZNAME:UTC
DTSTART:20200101T000000
END:STANDARD
END:VTIMEZONE
BEGIN:VEVENT
DTSTART;TZID=UTC:20200919T200000
DTEND;TZID=UTC:20200919T213000
DTSTAMP:20260425T172427
CREATED:20200623T071911Z
LAST-MODIFIED:20200903T182936Z
UID:14047-1600545600-1600551000@www.ensembleptyx.com
SUMMARY:Amours lointaines (concert) - Les Journées du Matrimoine
DESCRIPTION:Le Matrimoine est constitué de la mémoire des créatrices du passé et de la transmission de leurs œuvres. L’égalité entre femmes et hommes nécessite une valorisation de l’héritage des femmes. Dès lors\, Matrimoine et Patrimoine constitueront ensemble notre héritage culturel commun\, mixte et égalitaire. \n\n\n\nNotre héritage culturel est composé de notre patrimoine (ce qui vient des pères) et de notre matrimoine (ce qui vient des mères). En réhabilitant la notion de matrimoine\, le mot comme les femmes qui le composent\, nous nous réapproprions l’héritage culturel qu’on nous vole : nous retrouvons dans la chambre de notre culture une autre bibliothèque\, celle des compositrices\, des conteuses\, des clownesses\, des plasticiennes\, des autrices…  \n\n\n\nAmours lointaines \n\n\n\nConcert à l’aveugle : saurez-vous reconnaître la musique d’une compositrice de celle d’un compositeur….? \n\n\n\nLe programme de ce concert de musiques contemporaines n’est pas connu à l’avance. Pourquoi tant de mystères ? Pour interroger notre écoute et savoir s’il est possible de discerner dans une musique des qualités féminines ou masculines\, éléments qui permettraient de distinguer à l’oreille seule une compositrice d’un compositeur.Le public sera donc invité à participer à une véritable enquête\, guidée par un questionnaire (facultatif !) qui lui sera remis. \n\n\n\nUn programme en partenariat avec l’Association des Personnes Handicapées Adultes et Jeunes d’Indre-et-Loire\, l’Agence Régional de Santé Centre-Val de Loire\, dans le cadre du protocole « Culture et Santé » et de la résidence de l’ensemble PTYX à la Chapelle des Frères Mineurs. \n\n\n\nUne action en collaboration avec Plurielles 34\, association dont l’objectif est de rendre plus visibles et de promouvoir les œuvres des compositrices résidant en France. \n\n\n\nInterprètes \n\n\n\nJean-Baptiste Apéré\, diffusion électro-acoustiqueMarie Chazelle\, flûtesCamille Gueirard\, violoncelleAntoine Moulin\, clarinetteEmilie Tillier\, sopranoPauline Vanagt\, flûtes \n\n\n\nUne action propulsée par H/F Centre-Val de Loire
URL:https://www.ensembleptyx.com/event/journee-du-matrimoine/
LOCATION:Chapelle des Capucins\, 8 rue de la Pierre\, Tours\, 37100\, France
CATEGORIES:concert,spectacle
ATTACH;FMTTYPE=image/jpeg:https://www.ensembleptyx.com/wp-content/uploads/2020/06/hfcvl-matrimoine-2020.jpg
ORGANIZER;CN="Collectif HF Centre-Val de Loire":MAILTO:hfcentrevaldeloire@gmail.com
END:VEVENT
END:VCALENDAR