BEGIN:VCALENDAR
VERSION:2.0
PRODID:-//ensemble PTYX - ECPv6.2.4//NONSGML v1.0//EN
CALSCALE:GREGORIAN
METHOD:PUBLISH
X-ORIGINAL-URL:https://www.ensembleptyx.com
X-WR-CALDESC:évènements pour ensemble PTYX
REFRESH-INTERVAL;VALUE=DURATION:PT1H
X-Robots-Tag:noindex
X-PUBLISHED-TTL:PT1H
BEGIN:VTIMEZONE
TZID:Europe/Paris
BEGIN:DAYLIGHT
TZOFFSETFROM:+0100
TZOFFSETTO:+0200
TZNAME:CEST
DTSTART:20250330T010000
END:DAYLIGHT
BEGIN:STANDARD
TZOFFSETFROM:+0200
TZOFFSETTO:+0100
TZNAME:CET
DTSTART:20251026T010000
END:STANDARD
END:VTIMEZONE
BEGIN:VEVENT
DTSTART;TZID=Europe/Paris:20251101T180000
DTEND;TZID=Europe/Paris:20251101T193000
DTSTAMP:20260419T171316
CREATED:20251017T042425Z
LAST-MODIFIED:20251025T073811Z
UID:29127-1762020000-1762025400@www.ensembleptyx.com
SUMMARY:Duo Aventure
DESCRIPTION:L’ensemble PTYX a le plaisir d’accueillir le duo Aventure dans un programme mélangeant musique de la Renaissance et nouvelle création du compositeur Charles Uzor. \nmusiques \n\n(*1961) Charles Uzor (sea)\, commande du Duo Aventure\n(1490 – 1562) Claudin de Sermisy\n(1497-1543) Francesco da Milano\n(1560 – 1615) John Baldwine\n\nDuo Aventure \n\n\n\n\nTeresa Hackel\, flûtes à bec\nKarin Rüdt\, guitares\n\n  \n oriri \nLa nouvelle œuvre de Charles Uzor renvoie de multiples façons aux œuvres et au style de la Renaissance musicale\, qu’elle contraste et fusionne à sa manière. Aussi résistants qu’enrichissants\, les sixièmes de ton et les bandes enregistrées interviennent dans cette référence. \nC’est dans l’oscillation entre l’étrangeté et l’acceptation que naît cette intensité et cette densité qui se dégagent souvent de l’œuvre d’Uzor. \nVoyageur ! Il n’y a pas de cheminsRien que des sillages sur la mer. Tout passe et tout demeureMais notre affaire est de passerDe passer en traçantDes cheminsDes chemins sur la mer \nAntonio Machado \n\n  \n\n  \nOriri (banquet) emprunte des chemins qui doivent mener ma musique vers des espaces ouverts\, baignés de lumière\, de mélodie et de résonance… Dans Oriri\, l’Orient et l’Occident se font face\, non pas dans un esprit hostile\, mais dans un esprit de curiosité\, d’hospitalité et de débat. La flûte et la guitare sont ici des ponts entre l’Orient et l’Occident\, entre l’Irak et Santiago\, entre le monologue et la rencontre\, entre la dispute et le symposium des voix. \n— Charles Uzor \n\nhttps://www.ensembleptyx.com/wp-content/uploads/2025/10/duo-Aventure-teaser.mp4\n  \n\n 
URL:https://www.ensembleptyx.com/event/duo-aventure-2/
LOCATION:Salle des fêtes de Continvoir\, rue des pelouses\, Continvoir\, 37340
CATEGORIES:concert
ATTACH;FMTTYPE=image/jpeg:https://www.ensembleptyx.com/wp-content/uploads/2025/10/def_flyer_frankreich_A5_digital-e1760674963176.jpg
ORGANIZER;CN="vous ne r%C3%AAvez pas encore...":MAILTO:vnrpe@chimeriens.com
END:VEVENT
BEGIN:VEVENT
DTSTART;TZID=Europe/Paris:20251123T153000
DTEND;TZID=Europe/Paris:20251123T173000
DTSTAMP:20260419T171316
CREATED:20250913T050631Z
LAST-MODIFIED:20251017T034441Z
UID:29035-1763911800-1763919000@www.ensembleptyx.com
SUMMARY:La peinture en scène
DESCRIPTION:Dans le cadre de la prolongation de l’exposition « La peinture en scène« \, le CCC OD accueille le compositeur Jean-Yves Bosseur et l’ensemble de musique contemporaine PTYX. \nJean-Yves Bosseur a eu plusieurs fois l’occasion de travailler avec Olivier Debré\, notamment en composant Hong Kong variations\, une pièce de musique contemporaine inspirée par le rideau de scène de l’Opéra de Hong Kong\, créé par Olivier Debré en 1989. \nAujourd’hui\, il propose une nouvelle création musicale en hommage à Olivier Debré\, avec la complicité de l’ensemble PTYX.\nLe concert sera précédé d’une rencontre avec le compositeur\, par ailleurs philosophe spécialisé en esthétique et plus spécifiquement sur les rapports entre arts visuels et musique. \n15h30-16h30 : rencontre avec Jean-Yves Bosseur (auditorium noir)\n16h30-17h30 : concert avec Jean-Yves Bosseur et PTYX (galerie noire)
URL:https://www.ensembleptyx.com/event/la-peinture-en-scene/
LOCATION:Centre de Création Contemporaine Olivier Debré\, Jardin François 1er\, Tours\, 37000\, France
CATEGORIES:concert,rencontre
ATTACH;FMTTYPE=image/png:https://www.ensembleptyx.com/wp-content/uploads/2025/09/la-peinture-en-scene-2025-1-e1760672672585.png
ORGANIZER;CN="CCCOD":MAILTO:contact@cccod.fr
END:VEVENT
END:VCALENDAR