BEGIN:VCALENDAR
VERSION:2.0
PRODID:-//ensemble PTYX - ECPv6.2.4//NONSGML v1.0//EN
CALSCALE:GREGORIAN
METHOD:PUBLISH
X-ORIGINAL-URL:https://www.ensembleptyx.com
X-WR-CALDESC:évènements pour ensemble PTYX
REFRESH-INTERVAL;VALUE=DURATION:PT1H
X-Robots-Tag:noindex
X-PUBLISHED-TTL:PT1H
BEGIN:VTIMEZONE
TZID:Europe/Paris
BEGIN:DAYLIGHT
TZOFFSETFROM:+0100
TZOFFSETTO:+0200
TZNAME:CEST
DTSTART:20250330T010000
END:DAYLIGHT
BEGIN:STANDARD
TZOFFSETFROM:+0200
TZOFFSETTO:+0100
TZNAME:CET
DTSTART:20251026T010000
END:STANDARD
END:VTIMEZONE
BEGIN:VEVENT
DTSTART;TZID=Europe/Paris:20250607T200000
DTEND;TZID=Europe/Paris:20250607T210000
DTSTAMP:20260420T005549
CREATED:20250328T051909Z
LAST-MODIFIED:20250328T052045Z
UID:28584-1749326400-1749330000@www.ensembleptyx.com
SUMMARY:"Conversations" avec Christophe Rostang
DESCRIPTION:Sur l’invitation d’Offrandes\, Christophe Rostang donnera la nouvelle version de son spectacle en constante évolution. \n\n\n\n\n« Conversations » est un programme réalisé pour l’ensemble Ptyx par Christophe Rostang.\nIl explore quelques œuvres importantes du répertoire de la trompette sous l’angle du dialogue et dans le but de déconstruire la vision réductrice attribuée à cet instrument. Explorant différentes esthétiques de la musique contemporaine\, on y entend des influences sérielles dans la musique de Takemitsu\, du théâtre musical grâce aux brèves de Jacques Rebotier en passant par le minimalisme américain à travers la pièce de Terry Riley « Dorian Reeds »\, Mais l’essence de ce programme reste l’exploration des émotions les plus intériorisées: questionnement autour de l’amour\, la mort\, la solitude\, l’altérité et l’exaltation seront autant de thèmes partagés lors de ce concert par le trompettiste Christophe Rostang. \n\n\n\nProgramme \n— BARRY\, Trumpeter (2 mn) \n— REBOTIER\, Brève n°16 « Tu viens » (1 mn) \n— SCELSI\, 1ère des Quattro Pezzi (3 mn) \n— HERSANT\, Folk Tunes (8 mn) \n— REBOTIER\, Brève n°15 « Quoi ? » (2 mn) \n— DE GOEIJ\, Monologue intérieur (7 mn) \n— LUTOSLWASKI\, Tune (1m10) \n— TAKEMITSU\, Paths (6 mn) \n— RILEY\, Dorian Reeds (25 mn) \n\n\n\n\n\n\n\n 
URL:https://www.ensembleptyx.com/event/conversations-avec-christophe-rostang/
LOCATION:La Fonderie\, 2 rue de la Fonderie\, Le Mans\, 72000\, France
CATEGORIES:concert
ATTACH;FMTTYPE=image/jpeg:https://www.ensembleptyx.com/wp-content/uploads/2023/12/ptyx-visuel-conversations-2024-web.jpg
ORGANIZER;CN="vous ne r%C3%AAvez pas encore...":MAILTO:vnrpe@chimeriens.com
END:VEVENT
END:VCALENDAR