BEGIN:VCALENDAR
VERSION:2.0
PRODID:-//ensemble PTYX - ECPv6.2.4//NONSGML v1.0//EN
CALSCALE:GREGORIAN
METHOD:PUBLISH
X-ORIGINAL-URL:https://www.ensembleptyx.com
X-WR-CALDESC:évènements pour ensemble PTYX
REFRESH-INTERVAL;VALUE=DURATION:PT1H
X-Robots-Tag:noindex
X-PUBLISHED-TTL:PT1H
BEGIN:VTIMEZONE
TZID:Europe/Paris
BEGIN:DAYLIGHT
TZOFFSETFROM:+0100
TZOFFSETTO:+0200
TZNAME:CEST
DTSTART:20230326T010000
END:DAYLIGHT
BEGIN:STANDARD
TZOFFSETFROM:+0200
TZOFFSETTO:+0100
TZNAME:CET
DTSTART:20231029T010000
END:STANDARD
END:VTIMEZONE
BEGIN:VEVENT
DTSTART;TZID=Europe/Paris:20230621T150000
DTEND;TZID=Europe/Paris:20230621T170000
DTSTAMP:20260423T103939
CREATED:20230317T110225Z
LAST-MODIFIED:20230524T062919Z
UID:25998-1687359600-1687366800@www.ensembleptyx.com
SUMMARY:Musiciens d'un jour\, avec l'ensemble PTYX
DESCRIPTION:Restitution des ateliers instruments \nPour lancer le nouveau service de prêt d’instruments de musique\, nous vous proposons de venir écouter le résultat du travail mené lors des ateliers « Musicien d’un jour ». Cette représentation utilisera des instruments que la Bibliothèque municipale prêtera par la suite au public. \nUn moment intense qui sera capté en direct par Radio Campus Tours.
URL:https://www.ensembleptyx.com/event/en-pleine-forme/
LOCATION:Bibliothèque Centrale\, 2 bis avenue André Malraux\, Tours\, 37000\, France
CATEGORIES:concert
ATTACH;FMTTYPE=image/jpeg:https://www.ensembleptyx.com/wp-content/uploads/2023/03/Ateliers-Ensemble-Ptyx-recto.jpg
END:VEVENT
BEGIN:VEVENT
DTSTART;TZID=Europe/Paris:20230624T200000
DTEND;TZID=Europe/Paris:20230624T213000
DTSTAMP:20260423T103939
CREATED:20230507T040713Z
LAST-MODIFIED:20230507T040713Z
UID:26314-1687636800-1687642200@www.ensembleptyx.com
SUMMARY:Une journée pour l'anniversaire d'Yves Bonnefoy
DESCRIPTION:En préambule à la Bibliothèque Centrale de Tours \nLe chœur poète \n11h L’amitié d’Yves BonnefoyUne conversation entre François Lallier et Thierry Machuel avec un témoignage lu de Michèle Finck suivie d’un temps d’échange avec le public \n14h30 L’alliance de la poésie et de la musiqueUne conversation entre Jean-Luc Tamby et Thierry Machuel \n15h30 Table ronde \nEntrée libre dans la limite des places disponibles \n\n20h Concert\, à la salle OckeghemOctuor vocal Quinte&Sens\, Patrick Sublaurier\, Chœur Elanaveva\, Isabelle Faes\, Dispositif électroacoustique\, Jean-Baptiste Apéré / Thierry MachuelSalle Ockeghem
URL:https://www.ensembleptyx.com/event/une-journee-pour-lanniversaire-dyves-bonnefoy/
LOCATION:Salle Jean de Ockeghem\, 15 place de Châteauneuf\, Tours\, 37000\, France
CATEGORIES:concert
ATTACH;FMTTYPE=image/png:https://www.ensembleptyx.com/wp-content/uploads/2023/05/yves_bonnefoy.png
END:VEVENT
END:VCALENDAR