BEGIN:VCALENDAR
VERSION:2.0
PRODID:-//ensemble PTYX - ECPv6.2.4//NONSGML v1.0//EN
CALSCALE:GREGORIAN
METHOD:PUBLISH
X-ORIGINAL-URL:https://www.ensembleptyx.com
X-WR-CALDESC:évènements pour ensemble PTYX
REFRESH-INTERVAL;VALUE=DURATION:PT1H
X-Robots-Tag:noindex
X-PUBLISHED-TTL:PT1H
BEGIN:VTIMEZONE
TZID:Europe/Paris
BEGIN:DAYLIGHT
TZOFFSETFROM:+0100
TZOFFSETTO:+0200
TZNAME:CEST
DTSTART:20230326T010000
END:DAYLIGHT
BEGIN:STANDARD
TZOFFSETFROM:+0200
TZOFFSETTO:+0100
TZNAME:CET
DTSTART:20231029T010000
END:STANDARD
END:VTIMEZONE
BEGIN:VEVENT
DTSTART;TZID=Europe/Paris:20230311T193000
DTEND;TZID=Europe/Paris:20230311T203000
DTSTAMP:20260423T143949
CREATED:20221125T154841Z
LAST-MODIFIED:20230223T090646Z
UID:25732-1678563000-1678566600@www.ensembleptyx.com
SUMMARY:Foliephonies XX Elles => En avant les compositrices !
DESCRIPTION:Concert dans le cadre de ce bel événement proposé par Lucie Prod’homme au Conservatoire à Rayonnement Régional de Perpignan\, en partenariat avec la Maison de la Musique Contemporaine\, la compagnie Motus\, l’ensemble PTYX\, l’association de compositrices Plurielles 34 et l’émission de radio Métaclassique de David Christoffel. \n\n\n\nEn collaboration avec la médiathèque Centrale de Perpignan\, la médiathèque du CRR\, des musicologues\, les classes de formations musicale ainsi que les classe d’instruments et  la classe de composition de Lucie Prod’homme et de ses étudiants.
URL:https://www.ensembleptyx.com/event/foliephonies-xx-elles-concert/
LOCATION:Conservatoire à Rayonnement Régional Perpignan Méditerranée Métropole\, 1 Rue des Jotglars\, Perpignan\, 66100
CATEGORIES:concert
ATTACH;FMTTYPE=image/jpeg:https://www.ensembleptyx.com/wp-content/uploads/2022/11/FPXX.jpg
END:VEVENT
BEGIN:VEVENT
DTSTART;TZID=Europe/Paris:20230324T200000
DTEND;TZID=Europe/Paris:20230324T213000
DTSTAMP:20260423T143949
CREATED:20221109T073453Z
LAST-MODIFIED:20230225T061511Z
UID:25628-1679688000-1679693400@www.ensembleptyx.com
SUMMARY:Release Party - "Noûs"
DESCRIPTION:Le second album de l’ensemble PTYX paraît ce printemps 2023 comme une consécration de plusieurs années de travail étroit avec des compositrices et des compositeurs. Intitulé « Noûs »\, en référence à cette force\, cet instinct de pré-voir ensemble\, le disque rassemble sept œuvres de musique de chambre des trente dernières années\, dont cinq enregistrements en première mondiale. \nEn avant-première à cette sortie\, les douze musicien·nes joueront l’intégralité du disque en live dans l’acoustique rêvée du réfectoire des Chanoines. \nEn présence de la compositrice Sophie Lacaze et des compositeurs Sylvain Kassap et Charles Uzor. \nDans le cadre du printemps des Poètes \n\n \n \nVendredi 24 mars à 20h \n8\,50€ / 7.50€ / 2.50€ \nSur réservation au 0247373270 ou demeureronsard@departement-touraine.fr
URL:https://www.ensembleptyx.com/event/release-party-nous/
LOCATION:Prieuré Saint-Cosme\, Rue Ronsard\, La Riche\, 37520
CATEGORIES:concert,disque
ATTACH;FMTTYPE=image/jpeg:https://www.ensembleptyx.com/wp-content/uploads/2022/11/Releasy-Party-2-scaled.jpg
END:VEVENT
END:VCALENDAR