BEGIN:VCALENDAR
VERSION:2.0
PRODID:-//ensemble PTYX - ECPv6.2.4//NONSGML v1.0//EN
CALSCALE:GREGORIAN
METHOD:PUBLISH
X-WR-CALNAME:ensemble PTYX
X-ORIGINAL-URL:https://www.ensembleptyx.com
X-WR-CALDESC:évènements pour ensemble PTYX
REFRESH-INTERVAL;VALUE=DURATION:PT1H
X-Robots-Tag:noindex
X-PUBLISHED-TTL:PT1H
BEGIN:VTIMEZONE
TZID:Europe/Paris
BEGIN:DAYLIGHT
TZOFFSETFROM:+0100
TZOFFSETTO:+0200
TZNAME:CEST
DTSTART:20230326T010000
END:DAYLIGHT
BEGIN:STANDARD
TZOFFSETFROM:+0200
TZOFFSETTO:+0100
TZNAME:CET
DTSTART:20231029T010000
END:STANDARD
END:VTIMEZONE
BEGIN:VEVENT
DTSTART;VALUE=DATE:20230115
DTEND;VALUE=DATE:20230116
DTSTAMP:20260423T175621
CREATED:20221126T083055Z
LAST-MODIFIED:20221126T083055Z
UID:25743-1673740800-1673827199@www.ensembleptyx.com
SUMMARY:Festival Les Ours aussi
DESCRIPTION:Concert sur l’invitation de l’ensemble Offrandes \nAvec Benjamin Garnier\, violoncelle  et Jean-Baptiste Apéré\, diffusion électro-acoustique \nHoraires et programme à préciser
URL:https://www.ensembleptyx.com/event/festival-les-ours-aussi-2/
CATEGORIES:concert,festival,spectacle
ATTACH;FMTTYPE=image/jpeg:https://www.ensembleptyx.com/wp-content/uploads/2022/11/lesoursaussi2022.jpg
END:VEVENT
END:VCALENDAR