BEGIN:VCALENDAR
VERSION:2.0
PRODID:-//ensemble PTYX - ECPv6.2.4//NONSGML v1.0//EN
CALSCALE:GREGORIAN
METHOD:PUBLISH
X-ORIGINAL-URL:https://www.ensembleptyx.com
X-WR-CALDESC:évènements pour ensemble PTYX
REFRESH-INTERVAL;VALUE=DURATION:PT1H
X-Robots-Tag:noindex
X-PUBLISHED-TTL:PT1H
BEGIN:VTIMEZONE
TZID:Europe/Paris
BEGIN:DAYLIGHT
TZOFFSETFROM:+0100
TZOFFSETTO:+0200
TZNAME:CEST
DTSTART:20220327T010000
END:DAYLIGHT
BEGIN:STANDARD
TZOFFSETFROM:+0200
TZOFFSETTO:+0100
TZNAME:CET
DTSTART:20221030T010000
END:STANDARD
END:VTIMEZONE
BEGIN:VEVENT
DTSTART;TZID=Europe/Paris:20221113T100000
DTEND;TZID=Europe/Paris:20221113T113000
DTSTAMP:20260423T203142
CREATED:20220503T125530Z
LAST-MODIFIED:20220927T110001Z
UID:25101-1668333600-1668339000@www.ensembleptyx.com
SUMMARY:"Aime assez à chahuter" : déambulation sonore
DESCRIPTION:Dans le cadre du festival « ‘Musiques démesurées » \nMarie Perrin · mezzo-soprano \nAntoine Moulin · clarinette \nYu-Hsuan Pai · percussions \nJean-Baptiste Apéré · objets sonores \nProgramme \n\nTan-Ling YU\, Circumambulating The Moutain pour vibraphone – 1er mouvement (2008/2009\, 4 min) \n\n\nSAPPHO\, Phanetai pour voix et vibraphone\, arrangement Jean-Baptiste Apéré (2020\, 4 min.)\n\n\nClaude LENNERS\, Poème pour clarinette et vibraphone (1996\, 4 min.)\n\n\nSylvain KASSAP\, In Eight-Fits pour voix et clarinette basse (2001\, 7 min.)\n\n******* \n\nCarola BAUCKHOLT\, Geräusche pour deux performeurs (1992\, 3 min.)\n\n\nAnna ARKUSHYNA\, Serenades Through Open Windows pour objets sonores / 4 interprètes (2011\, 5 min.)\n\n\nJohn CAGE\, Suite for toy piano — extrait (1948\, 3 min.)\n\n\nJohn CAGE\, Living Room Music II pour 4 interprètes (1940\, 2 min.) \n\n\nEmmanuel SÉJOURNÉ\, Vous avez du feu ?  pour 4 interprètes (2001\, 2 min.)\n\n\nHarrison BIRTWISTLE\, Roddy’s Reel pour clarinette basse et participation du public (2009\, 3 min.)
URL:https://www.ensembleptyx.com/event/deambulation-sonore/
LOCATION:Conservatoire Emmanuel-Chabrier\, 3 rue Maréchal Joffre\, Clermont-Ferrand\, 63000
CATEGORIES:concert
ATTACH;FMTTYPE=image/jpeg:https://www.ensembleptyx.com/wp-content/uploads/2022/05/Affiche_2022-1.jpg
END:VEVENT
BEGIN:VEVENT
DTSTART;TZID=Europe/Paris:20221125T193000
DTEND;TZID=Europe/Paris:20221125T203000
DTSTAMP:20260423T203142
CREATED:20221109T065942Z
LAST-MODIFIED:20221109T065942Z
UID:25602-1669404600-1669408200@www.ensembleptyx.com
SUMMARY:Musiques actuelles et contemporaines en Perche Sarthois
DESCRIPTION:Piloté par Antoine Moulin\, clarinettiste de l’ensemble mais également professeur dans plusieurs écoles de musique dans le Sud de la Sarthe\, un projet de sensibilisation aux musiques contemporaines est mené depuis septembre 2022 auprès d’élèves clarinettistes et saxophonistes de trois établissements : école de musique intercommunale Saint-Calais\, Bessé-sur-Braye et Vibraye\, école de musique municipale de La Ferté Bernard et école de musique intercommunale du Gesnois Bilurien.\nL’enjeu est de construire des passerelles\, grâce à des arrangements sur mesure\, entre le répertoire classique contemporain et d’autres styles actuels.\n\nRestitution par l’ensemble de clarinettistes et saxophonistes\n\nensemble PTYX\n\n\n\n\nAntoine Moulin ★ clarinette\nValérian Fouqueray ★ saxophone\nErick Pigeard ★ vibraphone\n\nCatherine Kwon ★ claviers\nJean-Baptiste Apéré ★ batterie
URL:https://www.ensembleptyx.com/event/musiques-actuelles-et-contemporaines-en-perche-sarthois/
LOCATION:Salle Daphné du Maurier\, rue de Wagenfeld\, Vibraye\, 72320
CATEGORIES:concert
END:VEVENT
BEGIN:VEVENT
DTSTART;TZID=Europe/Paris:20221126T193000
DTEND;TZID=Europe/Paris:20221126T203000
DTSTAMP:20260423T203142
CREATED:20221109T070134Z
LAST-MODIFIED:20221109T070134Z
UID:25605-1669491000-1669494600@www.ensembleptyx.com
SUMMARY:Musiques actuelles et contemporaines en Perche Sarthois
DESCRIPTION:Piloté par Antoine Moulin\, clarinettiste de l’ensemble mais également professeur dans plusieurs écoles de musique dans le Sud de la Sarthe\, un projet de sensibilisation aux musiques contemporaines est mené depuis septembre 2022 auprès d’élèves clarinettistes et saxophonistes de trois établissements : école de musique intercommunale Saint-Calais\, Bessé-sur-Braye et Vibraye\, école de musique municipale de La Ferté Bernard et école de musique intercommunale du Gesnois Bilurien.\nL’enjeu est de construire des passerelles\, grâce à des arrangements sur mesure\, entre le répertoire classique contemporain et d’autres styles actuels.\n\nRestitution par l’ensemble de clarinettistes et saxophonistes\n\nensemble PTYX\n\n\n\n\nAntoine Moulin ★ clarinette\nValérian Fouqueray ★ saxophone\nErick Pigeard ★ vibraphone\n\nCatherine Kwon ★ claviers\nJean-Baptiste Apéré ★ batterie
URL:https://www.ensembleptyx.com/event/musiques-actuelles-et-contemporaines-en-perche-sarthois-2/
LOCATION:Théâtre Epidaure\, 1 rue de la grosse pierre\, Bouloire\, 72440
CATEGORIES:concert
END:VEVENT
END:VCALENDAR