BEGIN:VCALENDAR
VERSION:2.0
PRODID:-//ensemble PTYX - ECPv6.2.4//NONSGML v1.0//EN
CALSCALE:GREGORIAN
METHOD:PUBLISH
X-WR-CALNAME:ensemble PTYX
X-ORIGINAL-URL:https://www.ensembleptyx.com
X-WR-CALDESC:évènements pour ensemble PTYX
REFRESH-INTERVAL;VALUE=DURATION:PT1H
X-Robots-Tag:noindex
X-PUBLISHED-TTL:PT1H
BEGIN:VTIMEZONE
TZID:Europe/Paris
BEGIN:DAYLIGHT
TZOFFSETFROM:+0100
TZOFFSETTO:+0200
TZNAME:CEST
DTSTART:20220327T010000
END:DAYLIGHT
BEGIN:STANDARD
TZOFFSETFROM:+0200
TZOFFSETTO:+0100
TZNAME:CET
DTSTART:20221030T010000
END:STANDARD
END:VTIMEZONE
BEGIN:VEVENT
DTSTART;TZID=Europe/Paris:20220703T170000
DTEND;TZID=Europe/Paris:20220703T183000
DTSTAMP:20260424T014347
CREATED:20220401T111449Z
LAST-MODIFIED:20220401T111449Z
UID:25009-1656867600-1656873000@www.ensembleptyx.com
SUMMARY:En grande forme
DESCRIPTION:Sur l’invitation du Jardin des Empreintes\, PTYX propose son programme « En grande forme ». \n« In C » de Terry Riley (1964) pour ensemble variable \n« Et tournent les sons dans la garrigue – Réflexion sur l’écriture N°1 » de Luc Ferrari pour bande et ensemble (1977) \nDeux oeuvres puissantes\, incontournables de la liberté des années 1960-1970. Des musiques à grande échelle qui s’auto-organisant à chaque performance ; chaque interprète improvise à partir des matériaux donnés par les compositeurs et de l’instant donné par ses complices de jeu.
URL:https://www.ensembleptyx.com/event/en-grande-forme/
LOCATION:L’Atelier des Empreintes\, 4 ruelle de la Motte\, Montsoreau\, 49730
CATEGORIES:concert
ATTACH;FMTTYPE=image/gif:https://www.ensembleptyx.com/wp-content/uploads/2022/04/ADE-MAIL.gif
END:VEVENT
BEGIN:VEVENT
DTSTART;TZID=Europe/Paris:20220707T190000
DTEND;TZID=Europe/Paris:20220707T200000
DTSTAMP:20260424T014347
CREATED:20220506T041413Z
LAST-MODIFIED:20220529T065329Z
UID:25112-1657220400-1657224000@www.ensembleptyx.com
SUMMARY:Shadowing Duckworth I
DESCRIPTION:Premier rendez-vous d’une série de concerts en hommage au compositeur William Duckworth dont on célèbre cette année les 10 ans de la disparition. \nProgramme autour de pièces pour piano par Alice Diéval. \nTime Curve Préludes (extraits – 25′) / Tango Voices (3′) / 3 méditations sur Satie‌ (15′) \nEnregistrement live pour le prochain disque de l’ensemble PTYX. \nParticipation libre \nphoto : Paula Court
URL:https://www.ensembleptyx.com/event/shadowing-duckworth-i/
LOCATION:Temple protestant de Tours\, 32 rue de la préfecture\, Tours\, 37000
CATEGORIES:concert,disque
ATTACH;FMTTYPE=image/jpeg:https://www.ensembleptyx.com/wp-content/uploads/2022/05/portrait_Duckworth_1x.jpg
END:VEVENT
BEGIN:VEVENT
DTSTART;TZID=Europe/Paris:20220709T180000
DTEND;TZID=Europe/Paris:20220709T193000
DTSTAMP:20260424T014347
CREATED:20220401T111924Z
LAST-MODIFIED:20220610T054122Z
UID:25013-1657389600-1657395000@www.ensembleptyx.com
SUMMARY:En grande forme
DESCRIPTION:Dans sa série « En avant les in:entendu·es »\,  PTYX quitte l’Indre-et-Loire le temps d’un programme « En grande forme ». \n\n« In C » de Terry Riley (1964) pour ensemble variable\n« Et tournent les sons dans la garrigue – Réflexion sur l’écriture N°1 » de Luc Ferrari pour bande et ensemble (1977)\n\nDeux oeuvres puissantes\, incontournables de la liberté des années 1960-1970. Des musiques à grande échelle qui s’auto-organisant à chaque performance ; chaque interprète improvise à partir des matériaux donnés par les compositeurs et de l’instant donné par ses complices de jeu. \nLe concert conclura une journée  de rencontre et exposition ouverte au public à la Richardière en partenariat avec Jeune création. En savoir plus … \nJeune création.
URL:https://www.ensembleptyx.com/event/en-grande-forme-2/
LOCATION:La Richardière\, La Richardière\, Lhomme\, 72340\, France
CATEGORIES:concert
ATTACH;FMTTYPE=image/jpeg:https://www.ensembleptyx.com/wp-content/uploads/2022/04/9juillet.jpg
END:VEVENT
END:VCALENDAR