BEGIN:VCALENDAR
VERSION:2.0
PRODID:-//ensemble PTYX - ECPv6.2.4//NONSGML v1.0//EN
CALSCALE:GREGORIAN
METHOD:PUBLISH
X-ORIGINAL-URL:https://www.ensembleptyx.com
X-WR-CALDESC:évènements pour ensemble PTYX
REFRESH-INTERVAL;VALUE=DURATION:PT1H
X-Robots-Tag:noindex
X-PUBLISHED-TTL:PT1H
BEGIN:VTIMEZONE
TZID:Europe/Paris
BEGIN:DAYLIGHT
TZOFFSETFROM:+0100
TZOFFSETTO:+0200
TZNAME:CEST
DTSTART:20210328T010000
END:DAYLIGHT
BEGIN:STANDARD
TZOFFSETFROM:+0200
TZOFFSETTO:+0100
TZNAME:CET
DTSTART:20211031T010000
END:STANDARD
END:VTIMEZONE
BEGIN:VEVENT
DTSTART;TZID=Europe/Paris:20210612T140000
DTEND;TZID=Europe/Paris:20210612T160000
DTSTAMP:20260425T012301
CREATED:20210417T045119Z
LAST-MODIFIED:20210602T034935Z
UID:23850-1623506400-1623513600@www.ensembleptyx.com
SUMMARY:Atelier de création partagée : Cécile Le Talec // ensemble PTYX
DESCRIPTION:En lien avec l’exposition de Cécile Le Talec à la Collégiale de Bueil\, dans le cadre de #habiterlelieu \, commissariat artistique Anne-Laure Chamboissier. \nTravail en après-midi autour de l’oeuvre de Cécile Le Talec\, « Nuées » et concert à 17h. \nAtelier à destination (en priorité\, mais non exclusif) des enfants et des parents de Bueil-en-Touraine et Villebourg. \nhttps://cecileletalec.com \nhttp://champrojects.com
URL:https://www.ensembleptyx.com/event/atelier-de-creation-partagee-cecile-le-talec-ensemble-ptyx/
LOCATION:Collégiale Jean de Bueil\, Bueil-en-Touraine\, 37370
CATEGORIES:ateliers de pratique artistique,concert,spectacle
ATTACH;FMTTYPE=image/jpeg:https://www.ensembleptyx.com/wp-content/uploads/2021/04/cecile-le-talec-scaled.jpeg
END:VEVENT
END:VCALENDAR