BEGIN:VCALENDAR
VERSION:2.0
PRODID:-//ensemble PTYX - ECPv6.2.4//NONSGML v1.0//EN
CALSCALE:GREGORIAN
METHOD:PUBLISH
X-ORIGINAL-URL:https://www.ensembleptyx.com
X-WR-CALDESC:évènements pour ensemble PTYX
REFRESH-INTERVAL;VALUE=DURATION:PT1H
X-Robots-Tag:noindex
X-PUBLISHED-TTL:PT1H
BEGIN:VTIMEZONE
TZID:Europe/Paris
BEGIN:DAYLIGHT
TZOFFSETFROM:+0100
TZOFFSETTO:+0200
TZNAME:CEST
DTSTART:20210328T010000
END:DAYLIGHT
BEGIN:STANDARD
TZOFFSETFROM:+0200
TZOFFSETTO:+0100
TZNAME:CET
DTSTART:20211031T010000
END:STANDARD
END:VTIMEZONE
BEGIN:VEVENT
DTSTART;TZID=Europe/Paris:20210321T213000
DTEND;TZID=Europe/Paris:20210321T223000
DTSTAMP:20260425T055923
CREATED:20210320T043600Z
LAST-MODIFIED:20210320T052607Z
UID:23732-1616362200-1616365800@www.ensembleptyx.com
SUMMARY:Petit Faucheux on Air
DESCRIPTION:Ensemble PTYX  et Sylvain Kassap – « KASSAPERIES »  Concert et rencontre du 19 février 2021 au Petit faucheuxProposé en partenariat avec l’université de Tours et le département de musicologie.Durée – 1h17  \n\n\n\nEn direct sur Radio Campus Tours \n\n\n\n\nhttps://www.radiocampustours.com/2021/03/19/petit-faucheux-on-air-ensemble-ptyx-kassaperies-21-mars-2021-21h30/\nhttps://www.radiocampustours.com/2021/03/19/petit-faucheux-on-air-ensemble-ptyx-kassaperies-21-mars-2021-21h30/
URL:https://www.ensembleptyx.com/event/petit-faucheux-on-air/
CATEGORIES:concert,radio,sortie de résidence
ATTACH;FMTTYPE=image/png:https://www.ensembleptyx.com/wp-content/uploads/2021/03/Radio-Campus-Tours.png
END:VEVENT
END:VCALENDAR