BEGIN:VCALENDAR
VERSION:2.0
PRODID:-//ensemble PTYX - ECPv6.2.4//NONSGML v1.0//EN
CALSCALE:GREGORIAN
METHOD:PUBLISH
X-ORIGINAL-URL:https://www.ensembleptyx.com
X-WR-CALDESC:évènements pour ensemble PTYX
REFRESH-INTERVAL;VALUE=DURATION:PT1H
X-Robots-Tag:noindex
X-PUBLISHED-TTL:PT1H
BEGIN:VTIMEZONE
TZID:UTC
BEGIN:STANDARD
TZOFFSETFROM:+0000
TZOFFSETTO:+0000
TZNAME:UTC
DTSTART:20200101T000000
END:STANDARD
END:VTIMEZONE
BEGIN:VEVENT
DTSTART;TZID=UTC:20200712T170000
DTEND;TZID=UTC:20200712T180000
DTSTAMP:20260425T184241
CREATED:20200604T135611Z
LAST-MODIFIED:20200707T075434Z
UID:13110-1594573200-1594576800@www.ensembleptyx.com
SUMMARY:Marraine en Touraine
DESCRIPTION:A l’occasion de la venue de la compositrice Sophie Lacaze en Indre-et-Loire\, nous lui consacrons un 2e temps fort\, pour que le public découvre son univers musical. \n\n\n\nErigée « Marraine » de l’ensemble depuis qu’elle nous a recommandés pour intégrer Futurs Composés\, Sophie Lacaze devait être également la marraine de la 2e édition de l’académie « les p’tits ptyx » ; stage pour les jeunes qui devait se tenir à Ballan-Miré du 6 au 10 juillet prochain et que nous avons préféré annuler en raison des incertitudes … contemporaines. \n\n\n\nLe Domaine de La Grange Tiphaine nous ouvre ces portes une nouvelle fois. Nous avons concocté un programme sur mesure\, pour entrer dans ce temps estival en douceur.  \n\n\n\nClaude DEBUSSY\, Syrinx pour flûte (1913) \n\n\n\nCharles KOECHLIN\, Chants de Nectaire pour flûte seule (1944) – extrait \n\n\n\nYoshihisa TAÏRA\, Synchronie pour deux flûtes (1986) \n\n\n\nPhilippe GLASS\, Arabesque in Memoriam pour flûte seule (1988) \n\n\n\nTristan MURAIL\, Unanswered Questions pour flûte (1995) \n\n\n\nSophie LACAZE\, Cinq Voyelles pour Quatre Flûtes (2005) \n\n\n\nDenis SCHULER\, Tan-Ka pour piccolo et flûte basse (2013) \n\n\n\nSophie LACAZE\, And Earth moves away (2018) pour quatre flûte \n\n\n\nCharles KOECHLIN\, Chants de Nectaire pour flûte (1944) – extrait \n\n\n\n \n\n\n\nInteprètes :  Marie Chazelle\, Sylviane Leroux\, Marie Perrin\, Pauline Vanagt \n\n\n\n \n\n\n\nJauge limitée. Réservation conseillée. 06 51 89 45 51. contact[@]ensembleptyx.com ou page Facebook
URL:https://www.ensembleptyx.com/event/marraine-en-touraine/
LOCATION:La Grange Tiphaine\, Lieu-dit La Grange Tiphaine\, Amboise\, 37400\, France
CATEGORIES:concert,spectacle
ATTACH;FMTTYPE=image/jpeg:https://www.ensembleptyx.com/wp-content/uploads/2020/06/the-flute-player-lindi-levison.jpg
ORGANIZER;CN="vous ne r%C3%AAvez pas encore...":MAILTO:vnrpe@chimeriens.com
END:VEVENT
END:VCALENDAR