BEGIN:VCALENDAR
VERSION:2.0
PRODID:-//ensemble PTYX - ECPv6.2.4//NONSGML v1.0//EN
CALSCALE:GREGORIAN
METHOD:PUBLISH
X-ORIGINAL-URL:https://www.ensembleptyx.com
X-WR-CALDESC:évènements pour ensemble PTYX
REFRESH-INTERVAL;VALUE=DURATION:PT1H
X-Robots-Tag:noindex
X-PUBLISHED-TTL:PT1H
BEGIN:VTIMEZONE
TZID:Europe/Paris
BEGIN:DAYLIGHT
TZOFFSETFROM:+0100
TZOFFSETTO:+0200
TZNAME:CEST
DTSTART:20200329T010000
END:DAYLIGHT
BEGIN:STANDARD
TZOFFSETFROM:+0200
TZOFFSETTO:+0100
TZNAME:CET
DTSTART:20201025T010000
END:STANDARD
END:VTIMEZONE
BEGIN:VEVENT
DTSTART;TZID=Europe/Paris:20200607T170000
DTEND;TZID=Europe/Paris:20200607T170000
DTSTAMP:20260425T201856
CREATED:20200122T051605Z
LAST-MODIFIED:20200518T064104Z
UID:7973-1591549200-1591549200@www.ensembleptyx.com
SUMMARY:[REPORTÉ] Vivaldi Recomposed (Max Richter)
DESCRIPTION:Les Quatre Saisons recomposées par Max Richter par Géraldine Bisi (violon) et Catherine Natalini (piano)
URL:https://www.ensembleptyx.com/event/vivaldi-recomposed-max-richter-3/
LOCATION:Chapelle de l’Hôpital Bretonneau\, 2 boulevard Tonnellé\, Tours\, 37000\, France
CATEGORIES:concert
ATTACH;FMTTYPE=image/jpeg:https://www.ensembleptyx.com/wp-content/uploads/2019/10/PTYX-Vivaldi_Recomposed_quadri_web.jpg
ORGANIZER;CN="vous ne r%C3%AAvez pas encore...":MAILTO:vnrpe@chimeriens.com
END:VEVENT
END:VCALENDAR