BEGIN:VCALENDAR
VERSION:2.0
PRODID:-//ensemble PTYX - ECPv6.2.4//NONSGML v1.0//EN
CALSCALE:GREGORIAN
METHOD:PUBLISH
X-WR-CALNAME:ensemble PTYX
X-ORIGINAL-URL:https://www.ensembleptyx.com
X-WR-CALDESC:évènements pour ensemble PTYX
REFRESH-INTERVAL;VALUE=DURATION:PT1H
X-Robots-Tag:noindex
X-PUBLISHED-TTL:PT1H
BEGIN:VTIMEZONE
TZID:Europe/Paris
BEGIN:DAYLIGHT
TZOFFSETFROM:+0100
TZOFFSETTO:+0200
TZNAME:CEST
DTSTART:20250330T010000
END:DAYLIGHT
BEGIN:STANDARD
TZOFFSETFROM:+0200
TZOFFSETTO:+0100
TZNAME:CET
DTSTART:20251026T010000
END:STANDARD
END:VTIMEZONE
BEGIN:VEVENT
DTSTART;TZID=Europe/Paris:20250809T170000
DTEND;TZID=Europe/Paris:20250809T180000
DTSTAMP:20260419T162845
CREATED:20250520T041840Z
LAST-MODIFIED:20250520T041840Z
UID:28822-1754758800-1754762400@www.ensembleptyx.com
SUMMARY:Rencontre avec Dominique Lemaître et l'ensemble PTYX
DESCRIPTION:Dans le cadre du festival « Les Musicales de Normandie » et en préambule au concert du soir \nRencontre  avec Dominique Lemaître\, Antoine Moulin et Jean Baptiste Apéré à l’occasion de la parution du CD Panta rhei.
URL:https://www.ensembleptyx.com/event/rencontre-avec-dominique-lemaitre-et-lensemble-ptyx/
LOCATION:Librairie Le Chat Pitre\, 1 Quai Bérigny\, Fécamp\, 76400\, France
CATEGORIES:rencontre
ORGANIZER;CN="Les Musicales de Normandie":MAILTO:billetterie.musicalesnormandie@gmail.com
END:VEVENT
END:VCALENDAR