BEGIN:VCALENDAR
VERSION:2.0
PRODID:-//ensemble PTYX - ECPv6.2.4//NONSGML v1.0//EN
CALSCALE:GREGORIAN
METHOD:PUBLISH
X-WR-CALNAME:ensemble PTYX
X-ORIGINAL-URL:https://www.ensembleptyx.com
X-WR-CALDESC:évènements pour ensemble PTYX
REFRESH-INTERVAL;VALUE=DURATION:PT1H
X-Robots-Tag:noindex
X-PUBLISHED-TTL:PT1H
BEGIN:VTIMEZONE
TZID:Europe/Paris
BEGIN:DAYLIGHT
TZOFFSETFROM:+0100
TZOFFSETTO:+0200
TZNAME:CEST
DTSTART:20240331T010000
END:DAYLIGHT
BEGIN:STANDARD
TZOFFSETFROM:+0200
TZOFFSETTO:+0100
TZNAME:CET
DTSTART:20241027T010000
END:STANDARD
END:VTIMEZONE
BEGIN:VEVENT
DTSTART;TZID=Europe/Paris:20240524T190000
DTEND;TZID=Europe/Paris:20240524T200000
DTSTAMP:20260422T073253
CREATED:20240502T025003Z
LAST-MODIFIED:20240502T025058Z
UID:27540-1716577200-1716580800@www.ensembleptyx.com
SUMMARY:Présentation du disque "Bagatelles" de LIAO Lin-Ni
DESCRIPTION:Alice Diéval participe à une rencontre autour de l’artiste LIAO Lin-Ni\, qui présente son nouveau disque Bagatelles : des musiques qui donnent vie au silence et nous offrent quelque chose d’inédit. \nAlice interprètera « Time of Trees I » en compagnie de la compositrice. \nLes autres participant·e·s à la soirée : \n\nAnne Montaron\, modératrice\nChristelle Séry\, guitare\nDavid Joignaux\, grand tam-tam\nLaurence Bancaud\, harpe à levier
URL:https://www.ensembleptyx.com/event/presentation-du-disque-bagatelles-de-liao-lin-ni/
LOCATION:La Matrice\, 11 rue des Martyrs\, Paris\, 75009\, France
CATEGORIES:disque,rencontre
ATTACH;FMTTYPE=image/jpeg:https://www.ensembleptyx.com/wp-content/uploads/2024/05/NEOS-12418-Liao-Cover-e1714618251721.jpg
END:VEVENT
END:VCALENDAR