BEGIN:VCALENDAR
VERSION:2.0
PRODID:-//ensemble PTYX - ECPv6.2.4//NONSGML v1.0//EN
CALSCALE:GREGORIAN
METHOD:PUBLISH
X-ORIGINAL-URL:https://www.ensembleptyx.com
X-WR-CALDESC:évènements pour ensemble PTYX
REFRESH-INTERVAL;VALUE=DURATION:PT1H
X-Robots-Tag:noindex
X-PUBLISHED-TTL:PT1H
BEGIN:VTIMEZONE
TZID:Europe/Paris
BEGIN:DAYLIGHT
TZOFFSETFROM:+0100
TZOFFSETTO:+0200
TZNAME:CEST
DTSTART:20230326T010000
END:DAYLIGHT
BEGIN:STANDARD
TZOFFSETFROM:+0200
TZOFFSETTO:+0100
TZNAME:CET
DTSTART:20231029T010000
END:STANDARD
END:VTIMEZONE
BEGIN:VEVENT
DTSTART;TZID=Europe/Paris:20231007T110000
DTEND;TZID=Europe/Paris:20231007T120000
DTSTAMP:20260422T181258
CREATED:20230804T060558Z
LAST-MODIFIED:20230920T055500Z
UID:26683-1696676400-1696680000@www.ensembleptyx.com
SUMMARY:La fièvre du samedi matin
DESCRIPTION:Sylvain Kassap et l’équipe de W.S. participeront à ce rendez-vous de l’ensemble Offrandes. \nDepuis octobre 2010\, l’Ensemble Offrandes propose à la Fonderie\, chaque premier samedi du mois de septembre à juin\, des ateliers d’écoute atypiques. En entrée libre\, on peut y découvrir des musiques fraîchement écrites – ou improvisées ; on peut se laisser emmener dans le laboratoire où palpitent les sons\, où sont tressés musiques et poèmes.
URL:https://www.ensembleptyx.com/event/fievre/
LOCATION:La Fonderie\, 2 rue de la Fonderie\, Le Mans\, 72000\, France
CATEGORIES:atelier-concert,rencontre
ATTACH;FMTTYPE=image/jpeg:https://www.ensembleptyx.com/wp-content/uploads/2023/06/1200x680_affiche_offrandes_annuel_1522801.jpg
ORGANIZER;CN="Ensemble Offrandes":MAILTO:ensemble.offrandes@gmail.com
END:VEVENT
END:VCALENDAR