BEGIN:VCALENDAR
VERSION:2.0
PRODID:-//ensemble PTYX - ECPv6.2.4//NONSGML v1.0//EN
CALSCALE:GREGORIAN
METHOD:PUBLISH
X-WR-CALNAME:ensemble PTYX
X-ORIGINAL-URL:https://www.ensembleptyx.com
X-WR-CALDESC:évènements pour ensemble PTYX
REFRESH-INTERVAL;VALUE=DURATION:PT1H
X-Robots-Tag:noindex
X-PUBLISHED-TTL:PT1H
BEGIN:VTIMEZONE
TZID:Europe/Paris
BEGIN:DAYLIGHT
TZOFFSETFROM:+0100
TZOFFSETTO:+0200
TZNAME:CEST
DTSTART:20230326T010000
END:DAYLIGHT
BEGIN:STANDARD
TZOFFSETFROM:+0200
TZOFFSETTO:+0100
TZNAME:CET
DTSTART:20231029T010000
END:STANDARD
END:VTIMEZONE
BEGIN:VEVENT
DTSTART;VALUE=DATE:20230708
DTEND;VALUE=DATE:20230711
DTSTAMP:20260422T235652
CREATED:20230507T045759Z
LAST-MODIFIED:20230507T045759Z
UID:26342-1688774400-1689033599@www.ensembleptyx.com
SUMMARY:Avis de Recherche > Dominique Lemaître
DESCRIPTION:En vue d’un enregistrement discographique prévu à l’automne\, l’ensemble PTYX accueille le compositeur Dominique Lemaître. Plusieurs jours de répétition sont prévus\, et seront ouverts au public. \nDétails sur les œuvres et horaires à venir
URL:https://www.ensembleptyx.com/event/avis-de-recherche-dominique-lemaitre/
LOCATION:Musica-Loire\, école de musique et danse de Langeais/Cinq-Mars-la-Pile\, 1 rue Andrée Colson\, Langeais\, 37130\, France
CATEGORIES:rencontre,résidence
ATTACH;FMTTYPE=image/jpeg:https://www.ensembleptyx.com/wp-content/uploads/2023/05/arton8308.jpg
END:VEVENT
END:VCALENDAR