BEGIN:VCALENDAR
VERSION:2.0
PRODID:-//ensemble PTYX - ECPv6.2.4//NONSGML v1.0//EN
CALSCALE:GREGORIAN
METHOD:PUBLISH
X-WR-CALNAME:ensemble PTYX
X-ORIGINAL-URL:https://www.ensembleptyx.com
X-WR-CALDESC:évènements pour ensemble PTYX
REFRESH-INTERVAL;VALUE=DURATION:PT1H
X-Robots-Tag:noindex
X-PUBLISHED-TTL:PT1H
BEGIN:VTIMEZONE
TZID:Europe/Paris
BEGIN:DAYLIGHT
TZOFFSETFROM:+0100
TZOFFSETTO:+0200
TZNAME:CEST
DTSTART:20240331T010000
END:DAYLIGHT
BEGIN:STANDARD
TZOFFSETFROM:+0200
TZOFFSETTO:+0100
TZNAME:CET
DTSTART:20241027T010000
END:STANDARD
END:VTIMEZONE
BEGIN:VEVENT
DTSTART;TZID=Europe/Paris:20240402T093000
DTEND;TZID=Europe/Paris:20240402T113000
DTSTAMP:20260422T072452
CREATED:20240330T071134Z
LAST-MODIFIED:20240330T071134Z
UID:27413-1712050200-1712057400@www.ensembleptyx.com
SUMMARY:Don du Son
DESCRIPTION:Dans le cadre de son vaste projet\, « Marcher en poésie »\, l’ensemble PTYX ouvre son micro et son enregistreur et vous propose de venir déposer une parole\, un texte\, une chanson\, un témoignage sur votre quotidien en campagne. \nLes paroles collectées seront ensuite recyclées pour donner la matière à des textes de chansons\, préparées pendant des ateliers d’écriture avec l’auteur Raphaël Laiguillée. \nOuvert à tous les habitants et habitantes \n 
URL:https://www.ensembleptyx.com/event/don-du-son-5/
LOCATION:Place du marché\, Neuillé-Pont-Pierre\, 37360\, France
CATEGORIES:rencontre
ATTACH;FMTTYPE=image/jpeg:https://www.ensembleptyx.com/wp-content/uploads/2024/03/DS-NPP.jpg
ORGANIZER;CN="vous ne r%C3%AAvez pas encore...":MAILTO:vnrpe@chimeriens.com
END:VEVENT
BEGIN:VEVENT
DTSTART;TZID=Europe/Paris:20240403T180000
DTEND;TZID=Europe/Paris:20240403T200000
DTSTAMP:20260422T072452
CREATED:20240320T060140Z
LAST-MODIFIED:20240324T050218Z
UID:27383-1712167200-1712174400@www.ensembleptyx.com
SUMMARY:Don du Son
DESCRIPTION:Dans le cadre de son vaste projet\, « Marcher en poésie »\, l’ensemble PTYX ouvre son micro et son enregistreur et vous propose de venir déposer une parole\, un texte\, une chanson\, un témoignage sur votre quotidien en campagne. \nLes paroles collectées seront ensuite recyclées pour donner la matière à des textes de chansons\, préparées pendant des ateliers d’écriture avec l’auteur Raphaël Laiguillée. \nOuvert à tous les habitants et habitantes \n 
URL:https://www.ensembleptyx.com/event/don-du-son-4/
LOCATION:Place de l’église\, place de l'église\, Channay-sur-Lathan\, 37330\, France
CATEGORIES:rencontre
ATTACH;FMTTYPE=image/jpeg:https://www.ensembleptyx.com/wp-content/uploads/2024/03/Le-Don-du-Son-Channay.jpg
ORGANIZER;CN="vous ne r%C3%AAvez pas encore...":MAILTO:vnrpe@chimeriens.com
END:VEVENT
END:VCALENDAR