BEGIN:VCALENDAR
VERSION:2.0
PRODID:-//ensemble PTYX - ECPv6.2.4//NONSGML v1.0//EN
CALSCALE:GREGORIAN
METHOD:PUBLISH
X-ORIGINAL-URL:https://www.ensembleptyx.com
X-WR-CALDESC:évènements pour ensemble PTYX
REFRESH-INTERVAL;VALUE=DURATION:PT1H
X-Robots-Tag:noindex
X-PUBLISHED-TTL:PT1H
BEGIN:VTIMEZONE
TZID:Europe/Paris
BEGIN:DAYLIGHT
TZOFFSETFROM:+0100
TZOFFSETTO:+0200
TZNAME:CEST
DTSTART:20240331T010000
END:DAYLIGHT
BEGIN:STANDARD
TZOFFSETFROM:+0200
TZOFFSETTO:+0100
TZNAME:CET
DTSTART:20241027T010000
END:STANDARD
END:VTIMEZONE
BEGIN:VEVENT
DTSTART;TZID=Europe/Paris:20240328T160000
DTEND;TZID=Europe/Paris:20240328T180000
DTSTAMP:20260422T090213
CREATED:20240320T055245Z
LAST-MODIFIED:20240324T050235Z
UID:27370-1711641600-1711648800@www.ensembleptyx.com
SUMMARY:Don du Son
DESCRIPTION:Dans le cadre de son vaste projet\, « Marcher en poésie »\, l’ensemble PTYX ouvre son micro et son enregistreur et vous propose de venir déposer une parole\, un texte\, une chanson\, un témoignage sur votre quotidien en campagne. \nLes paroles collectées seront ensuite recyclées pour donner la matière à des textes de chansons\, préparées pendant des ateliers d’écriture avec l’auteur Raphaël Laiguillée. \nOuvert à tous les habitants et habitantes \n 
URL:https://www.ensembleptyx.com/event/don-du-son/
LOCATION:Foyer Bois Soleil\, rue de bois soleil\, Chemillé-sur-Dême\, 37370\, France
CATEGORIES:rencontre
ATTACH;FMTTYPE=image/jpeg:https://www.ensembleptyx.com/wp-content/uploads/2024/03/Le-Don-du-Son-Chemille-sur-Deme.jpg
ORGANIZER;CN="vous ne r%C3%AAvez pas encore...":MAILTO:vnrpe@chimeriens.com
END:VEVENT
BEGIN:VEVENT
DTSTART;TZID=Europe/Paris:20240329T093000
DTEND;TZID=Europe/Paris:20240329T113000
DTSTAMP:20260422T090213
CREATED:20240320T055445Z
LAST-MODIFIED:20240324T050141Z
UID:27377-1711704600-1711711800@www.ensembleptyx.com
SUMMARY:Don du Son
DESCRIPTION:Dans le cadre de son vaste projet\, « Marcher en poésie »\, l’ensemble PTYX ouvre son micro et son enregistreur et vous propose de venir déposer une parole\, un texte\, une chanson\, un témoignage sur votre quotidien en campagne. \nLes paroles collectées seront ensuite recyclées pour donner la matière à des textes de chansons\, préparées pendant des ateliers d’écriture avec l’auteur Raphaël Laiguillée. \nOuvert à tous les habitants et habitantes \n 
URL:https://www.ensembleptyx.com/event/don-du-son-2/
LOCATION:Place du mail\, Place du mail\, Continvoir\, 37340
CATEGORIES:rencontre
ATTACH;FMTTYPE=image/jpeg:https://www.ensembleptyx.com/wp-content/uploads/2024/03/Le-Don-du-Son-Continvoir.jpg
ORGANIZER;CN="vous ne r%C3%AAvez pas encore...":MAILTO:vnrpe@chimeriens.com
END:VEVENT
BEGIN:VEVENT
DTSTART;TZID=Europe/Paris:20240329T160000
DTEND;TZID=Europe/Paris:20240329T183000
DTSTAMP:20260422T090213
CREATED:20240320T055825Z
LAST-MODIFIED:20240324T050158Z
UID:27380-1711728000-1711737000@www.ensembleptyx.com
SUMMARY:Don du Son
DESCRIPTION:Dans le cadre de son vaste projet\, « Marcher en poésie »\, l’ensemble PTYX ouvre son micro et son enregistreur et vous propose de venir déposer une parole\, un texte\, une chanson\, un témoignage sur votre quotidien en campagne. \nLes paroles collectées seront ensuite recyclées pour donner la matière à des textes de chansons\, préparées pendant des ateliers d’écriture avec l’auteur Raphaël Laiguillée. \nOuvert à tous les habitants et habitantes \n 
URL:https://www.ensembleptyx.com/event/don-du-son-3/
LOCATION:Place Jean Audebert\, Place Jean Audebert\, Courcelles-de-Touraine\, 37330
CATEGORIES:rencontre
ATTACH;FMTTYPE=image/jpeg:https://www.ensembleptyx.com/wp-content/uploads/2024/03/Le-Don-du-Son-Courcelles.jpg
ORGANIZER;CN="vous ne r%C3%AAvez pas encore...":MAILTO:vnrpe@chimeriens.com
END:VEVENT
END:VCALENDAR