BEGIN:VCALENDAR
VERSION:2.0
PRODID:-//ensemble PTYX - ECPv6.2.4//NONSGML v1.0//EN
CALSCALE:GREGORIAN
METHOD:PUBLISH
X-ORIGINAL-URL:https://www.ensembleptyx.com
X-WR-CALDESC:évènements pour ensemble PTYX
REFRESH-INTERVAL;VALUE=DURATION:PT1H
X-Robots-Tag:noindex
X-PUBLISHED-TTL:PT1H
BEGIN:VTIMEZONE
TZID:Europe/Paris
BEGIN:DAYLIGHT
TZOFFSETFROM:+0100
TZOFFSETTO:+0200
TZNAME:CEST
DTSTART:20250330T010000
END:DAYLIGHT
BEGIN:STANDARD
TZOFFSETFROM:+0200
TZOFFSETTO:+0100
TZNAME:CET
DTSTART:20251026T010000
END:STANDARD
END:VTIMEZONE
BEGIN:VEVENT
DTSTART;VALUE=DATE:20250926
DTEND;VALUE=DATE:20250927
DTSTAMP:20260421T101302
CREATED:20250520T042622Z
LAST-MODIFIED:20250520T042622Z
UID:28825-1758844800-1758931199@www.ensembleptyx.com
SUMMARY:Journée pédagogique nationale pour la clarinette
DESCRIPTION:Acteur du milieu musical et partenaire de nombreux pédagogues\, Henri SELMER Paris organise la 6ème journée nationale consacrée à la clarinette et à son enseignement le vendredi 26 septembre prochain à Paris. \n\nDestinée à tous les professionnels et futurs professionnels\, de tous niveaux de structures (de l’associatif jusqu’aux établissements supérieurs)\, cette journée s’articulera autour d’interventions\, d’ateliers et de partages d’expériences sur le thème « Transmettre le feu ».\n\nCette rencontre se prépare et se déroulera avec la participation de Philippe Berrod\, Arnaud Leroy et Alain Billard\, professeurs de clarinette et clarinette basse\, tous trois au Conservatoire National Supérieur de Musique de Paris et de Valérie Guéroult\, Cheffe du bureau de l’expertise pédagogique et des partenariats au sein de la Direction des Affaires Culturelles de Paris.\n\n\nL’ensemble PTYX\, sous la forme de son septuor de clarinettes\, jouera quelques pièces de Jean-Baptiste Apéré.
URL:https://www.ensembleptyx.com/event/journee-pedagogique-nationale-pour-la-clarinette/
LOCATION:La Sirène de Paris\, 20 rue Dareau\, Paris\, 75014\, France
CATEGORIES:ateliers de pratique artistique,rencontre professionnelle
ATTACH;FMTTYPE=image/png:https://www.ensembleptyx.com/wp-content/uploads/2025/05/56195000037011216_zc_v1_1747603310894_rencontres_pedagogiques_nationales_pour_la_clarinette_light-e1747715168395.png
END:VEVENT
END:VCALENDAR