BEGIN:VCALENDAR
VERSION:2.0
PRODID:-//ensemble PTYX - ECPv6.2.4//NONSGML v1.0//EN
CALSCALE:GREGORIAN
METHOD:PUBLISH
X-WR-CALNAME:ensemble PTYX
X-ORIGINAL-URL:https://www.ensembleptyx.com
X-WR-CALDESC:évènements pour ensemble PTYX
REFRESH-INTERVAL;VALUE=DURATION:PT1H
X-Robots-Tag:noindex
X-PUBLISHED-TTL:PT1H
BEGIN:VTIMEZONE
TZID:Europe/Paris
BEGIN:DAYLIGHT
TZOFFSETFROM:+0100
TZOFFSETTO:+0200
TZNAME:CEST
DTSTART:20210328T010000
END:DAYLIGHT
BEGIN:STANDARD
TZOFFSETFROM:+0200
TZOFFSETTO:+0100
TZNAME:CET
DTSTART:20211031T010000
END:STANDARD
END:VTIMEZONE
BEGIN:VEVENT
DTSTART;VALUE=DATE:20210930
DTEND;VALUE=DATE:20211004
DTSTAMP:20260420T023447
CREATED:20210512T185349Z
LAST-MODIFIED:20210924T063113Z
UID:23918-1632960000-1633305599@www.ensembleptyx.com
SUMMARY:Avis de recherche > Lucie Prod'homme
DESCRIPTION:Nous aurons le plaisir de recevoir cette musicienne inclassable et prolifique : Lucie Prod’homme. \nDétails des rendez-vous sur la page dédiée : https://www.ensembleptyx.com/lucie-prodhomme/
URL:https://www.ensembleptyx.com/event/avis-de-recherche-lucie-prodhomme/
LOCATION:Saint-Pierre-des-Corps\, 37700\, France
CATEGORIES:atelier-concert,ateliers de pratique artistique,concert,conférence,rencontre professionnelle,résidence,spectacle
ATTACH;FMTTYPE=image/jpeg:https://www.ensembleptyx.com/wp-content/uploads/2021/05/lucie-prod_homme-par-jean-marc-vidal-e1761202471531.jpg
END:VEVENT
END:VCALENDAR