BEGIN:VCALENDAR
VERSION:2.0
PRODID:-//ensemble PTYX - ECPv6.2.4//NONSGML v1.0//EN
CALSCALE:GREGORIAN
METHOD:PUBLISH
X-ORIGINAL-URL:https://www.ensembleptyx.com
X-WR-CALDESC:évènements pour ensemble PTYX
REFRESH-INTERVAL;VALUE=DURATION:PT1H
X-Robots-Tag:noindex
X-PUBLISHED-TTL:PT1H
BEGIN:VTIMEZONE
TZID:Europe/Paris
BEGIN:DAYLIGHT
TZOFFSETFROM:+0100
TZOFFSETTO:+0200
TZNAME:CEST
DTSTART:20210328T010000
END:DAYLIGHT
BEGIN:STANDARD
TZOFFSETFROM:+0200
TZOFFSETTO:+0100
TZNAME:CET
DTSTART:20211031T010000
END:STANDARD
END:VTIMEZONE
BEGIN:VEVENT
DTSTART;VALUE=DATE:20210520
DTEND;VALUE=DATE:20210522
DTSTAMP:20260419T221233
CREATED:20210104T044348Z
LAST-MODIFIED:20210515T042534Z
UID:23152-1621468800-1621641599@www.ensembleptyx.com
SUMMARY:les Jeudiffusions du Synavi
DESCRIPTION:L’objectif de ces compagnies adhérentes au SYNAVI est de faire connaître leur travail à des programmateurs de toute la Région Centre –Val de Loire et des régions limitrophes afin de mieux diffuser leurs spectacles.L’idée est de faire circuler les œuvres et de faire découvrir aux compagnies d’autres territoires\, dans une dynamique militante en faveur de la diffusion des œuvres.
URL:https://www.ensembleptyx.com/event/les-jeudiffusions-du-synavi/
CATEGORIES:rencontre professionnelle
ATTACH;FMTTYPE=image/jpeg:https://www.ensembleptyx.com/wp-content/uploads/2021/01/Visuel-Mailing-JEUDIFFUSION-2021-b.jpg
ORGANIZER;CN="SYNAVI":MAILTO:centrevaldeloire@synavi.org
END:VEVENT
END:VCALENDAR