BEGIN:VCALENDAR
VERSION:2.0
PRODID:-//ensemble PTYX - ECPv6.2.4//NONSGML v1.0//EN
CALSCALE:GREGORIAN
METHOD:PUBLISH
X-ORIGINAL-URL:https://www.ensembleptyx.com
X-WR-CALDESC:évènements pour ensemble PTYX
REFRESH-INTERVAL;VALUE=DURATION:PT1H
X-Robots-Tag:noindex
X-PUBLISHED-TTL:PT1H
BEGIN:VTIMEZONE
TZID:Europe/Paris
BEGIN:DAYLIGHT
TZOFFSETFROM:+0100
TZOFFSETTO:+0200
TZNAME:CEST
DTSTART:20240331T010000
END:DAYLIGHT
BEGIN:STANDARD
TZOFFSETFROM:+0200
TZOFFSETTO:+0100
TZNAME:CET
DTSTART:20241027T010000
END:STANDARD
END:VTIMEZONE
BEGIN:VEVENT
DTSTART;TZID=Europe/Paris:20240525T180000
DTEND;TZID=Europe/Paris:20240525T183000
DTSTAMP:20260419T221204
CREATED:20231016T052655Z
LAST-MODIFIED:20240516T052740Z
UID:26939-1716660000-1716661800@www.ensembleptyx.com
SUMMARY:8′46″ George Floyd in memoriam
DESCRIPTION:Il y a quatre ans\, le 25 mai 2020\, George Floyd était tué par le policier Derek Chauvin lors de son arrestation. Maintenu 8 minutes 46 secondes au sol\, un genou sur la nuque\, Floyd répètera à plusieurs reprises qu’il ne peut plus respirer…. \nLe compositeur Charles Uzor a écrit plusieurs pièces en référence à cet événement qui l’a\, dit-il\, « laissé sans souffle ». L’écriture lui a alors donné un moyen de s’en sortir. \nL’oeuvre sera interprétée par plusieurs musiciens et musiciennes de l’ensemble PTYX ainsi que par la Chorale pas chantée du Collectif Grange Babel\, dans le cadre d’un événement en partenariat avec la Libraire-buvette L’Oiseau-Vigie : « La couleur n’est pas un crime ». \nRetransmission en direct sur un réseau social. \nphoto Kevin J. Beaty/Denverite : Detour and Heiro’s mural of George Floyd\, on East Colfax Avenue
URL:https://www.ensembleptyx.com/event/846-george-floyd-in-memoriam/
LOCATION:L’Oiseau-Vigie Libraire Buvette\, 37 avenue de la République\, Saint-Pierre-des-Corps\, 37700\, France
CATEGORIES:performance
ATTACH;FMTTYPE=image/jpeg:https://www.ensembleptyx.com/wp-content/uploads/2023/10/201104-GEORGE-FLOYD-DETOUR-THOMAS-EVANS-BLACK-LIVES-MATTER-RACIAL-JUSTICE-CRUSH-MURAL-RINO-FIVE-POINTS-PUBLIC-ARTS-KEVINJBEATY-01-e1715837202784.jpg
ORGANIZER;CN="vous ne r%C3%AAvez pas encore...":MAILTO:vnrpe@chimeriens.com
END:VEVENT
END:VCALENDAR