BEGIN:VCALENDAR
VERSION:2.0
PRODID:-//ensemble PTYX - ECPv6.2.4//NONSGML v1.0//EN
CALSCALE:GREGORIAN
METHOD:PUBLISH
X-ORIGINAL-URL:https://www.ensembleptyx.com
X-WR-CALDESC:évènements pour ensemble PTYX
REFRESH-INTERVAL;VALUE=DURATION:PT1H
X-Robots-Tag:noindex
X-PUBLISHED-TTL:PT1H
BEGIN:VTIMEZONE
TZID:Europe/Paris
BEGIN:DAYLIGHT
TZOFFSETFROM:+0100
TZOFFSETTO:+0200
TZNAME:CEST
DTSTART:20230326T010000
END:DAYLIGHT
BEGIN:STANDARD
TZOFFSETFROM:+0200
TZOFFSETTO:+0100
TZNAME:CET
DTSTART:20231029T010000
END:STANDARD
END:VTIMEZONE
BEGIN:VEVENT
DTSTART;TZID=Europe/Paris:20230520T140000
DTEND;TZID=Europe/Paris:20230520T180000
DTSTAMP:20260423T061612
CREATED:20230302T061200Z
LAST-MODIFIED:20230518T070138Z
UID:25877-1684591200-1684605600@www.ensembleptyx.com
SUMMARY:La voie des poètes
DESCRIPTION:Nouvelle création pour voix et électroacoustique de Thierry Machuel et Jean-Baptiste Apéré. \nDans les jardins du Château du Rivau\, Thierry Machuel et Jean-Baptiste Apéré vous proposent un spectacle sonore inédit. Ils ont imaginé ensemble un parcours enchanté résonnant telle une anthologie poétique au plus proche de la terre : La voix des poètes.\n\n\nInfos pratiques\n Départs à 14h\, 15h30 et 17h\n Durée : 1h\nSans supplément\, accès avec le billet d’entrée du Château\n Uniquement sur réservation par ici :\nhttps://www.chateaudurivau.com/fr/evenements-concert.php
URL:https://www.ensembleptyx.com/event/la-voie-des-poetes/
LOCATION:Château du Rivau\, 9 rue du Château\, Lémeré\, 37120\, France
CATEGORIES:balade sonore,lecture en musique
ATTACH;FMTTYPE=image/png:https://www.ensembleptyx.com/wp-content/uploads/2023/03/rivau.png
END:VEVENT
END:VCALENDAR