BEGIN:VCALENDAR
VERSION:2.0
PRODID:-//ensemble PTYX - ECPv6.2.4//NONSGML v1.0//EN
CALSCALE:GREGORIAN
METHOD:PUBLISH
X-WR-CALNAME:ensemble PTYX
X-ORIGINAL-URL:https://www.ensembleptyx.com
X-WR-CALDESC:évènements pour ensemble PTYX
REFRESH-INTERVAL;VALUE=DURATION:PT1H
X-Robots-Tag:noindex
X-PUBLISHED-TTL:PT1H
BEGIN:VTIMEZONE
TZID:Europe/Paris
BEGIN:DAYLIGHT
TZOFFSETFROM:+0100
TZOFFSETTO:+0200
TZNAME:CEST
DTSTART:20220327T010000
END:DAYLIGHT
BEGIN:STANDARD
TZOFFSETFROM:+0200
TZOFFSETTO:+0100
TZNAME:CET
DTSTART:20221030T010000
END:STANDARD
END:VTIMEZONE
BEGIN:VEVENT
DTSTART;TZID=Europe/Paris:20221215T180000
DTEND;TZID=Europe/Paris:20221215T193000
DTSTAMP:20260423T122903
CREATED:20220804T045150Z
LAST-MODIFIED:20221125T143029Z
UID:25339-1671127200-1671132600@www.ensembleptyx.com
SUMMARY:Unsilent Night
DESCRIPTION:Dans le cadre du Cercle des Musiques Disparues (#44a) \nUnsilent Night est une composition originale de Phil Kline\, écrite pour être jouée en extérieur au mois de décembre. La performance prend la forme d’une promenade dans les rues pendant laquelle le public est aussi les interprètes. Chaque participant utilise une des 4 pistes de la musique\, sous la forme d’une cassette\, ou un CD\, ou un mp3. Les participants amènent des postes radio\, ou des lecteurs connectés à des enceintes ou ni’mporte quel autre système qui amplifie la musique et permet de jouer simultanément tout en déambulant. \nRéunies ensemble\, les 4 pistes forment Unsilent Night. Les perfomeurs empruntent un chemin choisi avec soin à travers les rues de la ville\, créant une sculpture sonore mobile qui sera différente en fonction de la perspective de chaque auditeur. \nUnsilent Night a été joué dans 146 villes depuis sa création en 1992. Ce sera la première audition en France. \nPilotage : Jean-Baptiste Apéré \n\ndépart du bâtiment IN’OX\, 1 rue Andrée Colson \nparticipation gratuite. Plus d’informations sur la page consacrée
URL:https://www.ensembleptyx.com/event/le-cercle-des-musiques-disparues-44-unsilent-night/
LOCATION:Langeais\, Langeais\, 37130
CATEGORIES:atelier-concert,balade sonore
ATTACH;FMTTYPE=image/jpeg:https://www.ensembleptyx.com/wp-content/uploads/2022/08/UN-flyer-recto.jpg
END:VEVENT
BEGIN:VEVENT
DTSTART;TZID=Europe/Paris:20221221T180000
DTEND;TZID=Europe/Paris:20221221T193000
DTSTAMP:20260423T122903
CREATED:20220916T122500Z
LAST-MODIFIED:20221125T143344Z
UID:25531-1671645600-1671651000@www.ensembleptyx.com
SUMMARY:Unsilent Night
DESCRIPTION:Dans le cadre du Cercle des Musiques Disparues (#44b) \nUnsilent Night est une composition originale de Phil Kline\, écrite pour être jouée en extérieur au mois de décembre. La performance prend la forme d’une promenade dans les rues pendant laquelle le public est aussi les interprètes. Chaque participant utilise une des 4 pistes de la musique\, sous la forme d’une cassette\, ou un CD\, ou un mp3. Les participants amènent des postes radio\, ou des lecteurs connectés à des enceintes ou ni’mporte quel autre système qui amplifie la musique et permet de jouer simultanément tout en déambulant. \nRéunies ensemble\, les 4 pistes forment Unsilent Night. Les perfomeurs empruntent un chemin choisi avec soin à travers les rues de la ville\, créant une sculpture sonore mobile qui sera différente en fonction de la perspective de chaque auditeur. \nUnsilent Night a été joué dans 146 villes depuis sa création en 1992. Ce sera la première audition en France. \nPilotage : Jean-Baptiste Apéré \n\nparticipation gratuite. Plus d’informations en septembre 2022
URL:https://www.ensembleptyx.com/event/le-cercle-des-musiques-disparues-44b-unsilent-night/
LOCATION:Neuvy-le-Roi\, Neuvy-le-Roi\, 37370\, France
CATEGORIES:atelier-concert,balade sonore
ATTACH;FMTTYPE=image/jpeg:https://www.ensembleptyx.com/wp-content/uploads/2022/08/UN-flyer-recto.jpg
END:VEVENT
BEGIN:VEVENT
DTSTART;TZID=Europe/Paris:20221223T200000
DTEND;TZID=Europe/Paris:20221223T210000
DTSTAMP:20260423T122903
CREATED:20221109T070328Z
LAST-MODIFIED:20221125T143414Z
UID:25608-1671825600-1671829200@www.ensembleptyx.com
SUMMARY:Unsilent Night
DESCRIPTION:Dans le cadre du Cercle des Musiques Disparues (#44c) \nUnsilent Night est une composition originale de Phil Kline\, écrite pour être jouée en extérieur au mois de décembre. La performance prend la forme d’une promenade dans les rues pendant laquelle le public est aussi les interprètes. Chaque participant utilise une des 4 pistes de la musique\, sous la forme d’une cassette\, ou un CD\, ou un mp3. Les participants amènent des postes radio\, ou des lecteurs connectés à des enceintes ou ni’mporte quel autre système qui amplifie la musique et permet de jouer simultanément tout en déambulant. \nRéunies ensemble\, les 4 pistes forment Unsilent Night. Les perfomeurs empruntent un chemin choisi avec soin à travers les rues de la ville\, créant une sculpture sonore mobile qui sera différente en fonction de la perspective de chaque auditeur. \nUnsilent Night a été joué dans 146 villes depuis sa création en 1992. Ce sera la première audition en France. \nPilotage : Jean-Baptiste Apéré \n\nparticipation gratuite. Plus d’informations prochainement
URL:https://www.ensembleptyx.com/event/le-cercle-des-musiques-disparues-44c-unsilent-night/
LOCATION:Tours\, Tours\, 37000
CATEGORIES:atelier-concert,balade sonore
ATTACH;FMTTYPE=image/jpeg:https://www.ensembleptyx.com/wp-content/uploads/2022/08/UN-flyer-recto.jpg
END:VEVENT
END:VCALENDAR